Workbook

Sheet 封面
A6: 柳城县
A7: 2024年财政预算执行情况和2025年财政预算表
A14: 柳城县财政局编制
A15: 2024年12月

Sheet 目录
A1: 目 录
A2: 一、一般公共预算报表
A3: （一）柳城县一般公共预算2025年收入预算
A4: （二）柳城县一般公共预算2025年支出预算
A5: （三）柳城县本级一般公共预算2025年收入预算
A6: （四）柳城县本级一般公共预算2025年支出预算
A7: （五）柳城县本级一般公共预算2025年基本支出预算（按政府经济分类科目）
A8: （六）柳城县一般公共预算2025年税收返还和转移支付预算
A9: （七）柳城县一般公共预算2025年对下级财政转移支付支出分项目预算
A10: （八）柳城县一般公共预算2025年对下级财政转移支付支出分地区预算
A11: （九）柳城县2024年一般债务余额及年度限额统计表
A12: 二、政府性基金预算报表
... A31: （二十五）柳城县2024年-2025年政府债券发行及还本付息情况表

Sheet 全公收
A1: 附表1
A2: 柳城县一般公共预算2025年收入预算
J3: 单位：万元
A4: 项目 | B4: 2024年 | E4: 2025年预算
B5: 年初预算数 | C5: 执行数 | D5: 完成年初预算% | E5: 建议数 | I5: 比2024年执行数增减
E6: 合计 | F6: 本级当年安排 | G6: 上级提前下达 | H6: 上年结转 | I6: 金额 | J6: 比率 | M6: 税收全口径
A7: 一、税收收入 | B7: =SUM(B8:B21) -> 49000 | C7: =SUM(C8:C21) -> 38453 | D7: =IF(B7=0,0,C7/B7)*100 -> 78.47551 | E7: =SUM(E8:E21) -> 42000 | F7: =SUM(F8:F21) -> 42000 | I7: =E7-C7 -> 3547 | J7: =IF(C7=0,0,I7/C7)*100 -> 9.2242478 | L7: =O7-N7 -> 1912 | M7: =SUM(M8:M20) -> 58000 | N7: =SUM(N8:N21) -> 24328 | O7: =SUM(O8:O21) -> 26240 | P7: =SUM(P8:P21) -> 70000.339
A8: 增值税 | B8: 19000 | C8: 15116 | D8: =IF(B8=0,0,C8/B8)*100 -> 79.557895 | E8: =SUM(F8:H8) -> 16700 | F8: 16700 | I8: =E8-C8 -> 1584 | J8: =IF(C8=0,0,I8/C8)*100 -> 10.478963 | M8: 35000 | N8: 11128 | O8: 12741 | P8: =O8/0.32 -> 39815.625
A9: 企业所得税 | B9: 6500 | C9: 4546 | D9: =IF(B9=0,0,C9/B9)*100 -> 69.938462 | E9: =SUM(F9:H9) -> 5000 | F9: 5000 | I9: =E9-C9 -> 454 | J9: =IF(C9=0,0,I9/C9)*100 -> 9.9868016 | M9: 8900 | N9: 3500 | O9: 6600 | P9: =O9/0.3 -> 22000
A10: 个人所得税 | B10: 1000 | C10: 583 | D10: =IF(B10=0,0,C10/B10)*100 -> 58.3 | E10: =SUM(F10:H10) -> 700 | F10: 700 | I10: =E10-C10 -> 117 | J10: =IF(C10=0,0,I10/C10)*100 -> 20.068611 | M10: 4000 | N10: 700 | O10: 400 | P10: =O10/0.25 -> 1600
A11: 环境保护税 | B11: 200 | C11: 156 | D11: =IF(B11=0,0,C11/B11)*100 -> 78 | E11: =SUM(F11:H11) -> 200 | F11: 200 | I11: =E11-C11 -> 44 | J11: =IF(C11=0,0,I11/C11)*100 -> 28.205128 | M11: 300 | N11: 200 | O11: 200 | P11: =O11/0.7 -> 285.71429
A12: 资源税 | B12: 700 | C12: 431 | D12: =IF(B12=0,0,C12/B12)*100 -> 61.571429 | E12: =SUM(F12:H12) -> 500 | F12: 500 | I12: =E12-C12 -> 69 | J12: =IF(C12=0,0,I12/C12)*100 -> 16.009281 | M12: 1500 | N12: 900 | O12: 700 | P12: 700
A13: 城市维护建设税 | B13: 2000 | C13: 2157 | D13: =IF(B13=0,0,C13/B13)*100 -> 107.85 | E13: =SUM(F13:H13) -> 2400 | F13: 2400 | I13: =E13-C13 -> 243 | J13: =IF(C13=0,0,I13/C13)*100 -> 11.265647 | M13: 1500 | N13: 1500 | O13: 1000 | P13: 1000
A14: 房产税 | B14: 1000 | C14: 2679 | D14: =IF(B14=0,0,C14/B14)*100 -> 267.9 | E14: =SUM(F14:H14) -> 2300 | F14: 2300 | I14: =E14-C14 -> -379 | J14: =IF(C14=0,0,I14/C14)*100 -> -14.14707 | M14: 1000 | N14: 1000 | O14: 800 | P14: 800
A15: 印花税 | B15: 2000 | C15: 1602 | D15: =IF(B15=0,0,C15/B15)*100 -> 80.1 | E15: =SUM(F15:H15) -> 1800 | F15: 1800 | I15: =E15-C15 -> 198 | J15: =IF(C15=0,0,I15/C15)*100 -> 12.359551 | M15: 800 | N15: 1000 | O15: 799 | P15: 799
A16: 城镇土地使用税 | B16: 1200 | C16: 1776 | D16: =IF(B16=0,0,C16/B16)*100 -> 148 | E16: =SUM(F16:H16) -> 2000 | F16: 2000 | I16: =E16-C16 -> 224 | J16: =IF(C16=0,0,I16/C16)*100 -> 12.612613 | M16: 900 | N16: 1000 | O16: 1000 | P16: 1000
A17: 土地增值税 | B17: 1500 | C17: 96 | D17: =IF(B17=0,0,C17/B17)*100 -> 6.4 | E17: =SUM(F17:H17) -> 100 | F17: 100 | I17: =E17-C17 -> 4 | J17: =IF(C17=0,0,I17/C17)*100 -> 4.1666667 | M17: 1700 | N17: 1100 | O17: 800 | P17: 800
A18: 车船税 | B18: 3100 | C18: 3526 | D18: =IF(B18=0,0,C18/B18)*100 -> 113.74194 | E18: =SUM(F18:H18) -> 3600 | F18: 3600 | I18: =E18-C18 -> 74 | J18: =IF(C18=0,0,I18/C18)*100 -> 2.0986954 | M18: 700 | N18: 700 | O18: 600 | P18: 600
A19: 耕地占用税 | B19: 8000 | C19: 4647 | D19: =IF(B19=0,0,C19/B19)*100 -> 58.0875 | E19: =SUM(F19:H19) -> 5500 | F19: 5500 | I19: =E19-C19 -> 853 | J19: =IF(C19=0,0,I19/C19)*100 -> 18.355929 | M19: 200 | N19: 100
A20: 契税 | B20: 2800 | C20: 1138 | D20: =IF(B20=0,0,C20/B20)*100 -> 40.642857 | E20: =SUM(F20:H20) -> 1200 | F20: 1200 | I20: =E20-C20 -> 62 | J20: =IF(C20=0,0,I20/C20)*100 -> 5.4481547 | M20: 1500 | N20: 1500 | O20: 600 | P20: 600
A21: 其他税收收入 | B21: 0 | D21: =IF(B21=0,0,C21/B21)*100 -> 0 | E21: =SUM(F21:H21) -> 0 | I21: =E21-C21 -> 0 | J21: =IF(C21=0,0,I21/C21)*100 -> 0
A22: 二、非税收入 | B22: =SUM(B23:B30) -> 30000 | C22: =SUM(C23:C30) -> 14967 | D22: =IF(B22=0,0,C22/B22)*100 -> 49.89 | E22: =SUM(E23:E30) -> 13000 | F22: =SUM(F23:F30) -> 13000 | I22: =E22-C22 -> -1967 | J22: =IF(C22=0,0,I22/C22)*100 -> -13.142246 | L22: =O22-N22 -> 0 | N22: =SUM(N23:N30) -> 55770 | O22: =SUM(O23:O30) -> 55770 | P22: =SUM(P23:P30) -> 55770
A23: 专项收入 | B23: 2800 | C23: 3256 | D23: =IF(B23=0,0,C23/B23)*100 -> 116.28571 | E23: =SUM(F23:H23) -> 3100 | F23: 3100 | I23: =E23-C23 -> -156 | J23: =IF(C23=0,0,I23/C23)*100 -> -4.7911548 | N23: 2500 | O23: 2500 | P23: 2500
A24: 行政事业性收费收入 | B24: 2500 | C24: 2841 | D24: =IF(B24=0,0,C24/B24)*100 -> 113.64 | E24: =SUM(F24:H24) -> 2900 | F24: 2900 | I24: =E24-C24 -> 59 | J24: =IF(C24=0,0,I24/C24)*100 -> 2.0767335 | N24: 2500 | O24: 2500 | P24: 2500
A25: 罚没收入 | B25: 2500 | C25: 2992 | D25: =IF(B25=0,0,C25/B25)*100 -> 119.68 | E25: =SUM(F25:H25) -> 3000 | F25: 3000 | I25: =E25-C25 -> 8 | J25: =IF(C25=0,0,I25/C25)*100 -> 0.26737968 | N25: 2500 | O25: 2500 | P25: 2500
A26: 国有资本经营收入 | B26: 2000 | C26: 1620 | D26: =IF(B26=0,0,C26/B26)*100 -> 81 | E26: =SUM(F26:H26) -> 0 | I26: =E26-C26 -> -1620 | J26: =IF(C26=0,0,I26/C26)*100 -> -100
A27: 国有资源(资产)有偿使用收入 | B27: 20150 | C27: 4033 | D27: =IF(B27=0,0,C27/B27)*100 -> 20.014888 | E27: =SUM(F27:H27) -> 3800 | F27: 3800 | I27: =E27-C27 -> -233 | J27: =IF(C27=0,0,I27/C27)*100 -> -5.777337 | N27: 48172 | O27: 48000 | P27: 48000
A28: 捐赠收入 | B28: 0 | D28: =IF(B28=0,0,C28/B28)*100 -> 0 | E28: =SUM(F28:H28) -> 0 | I28: =E28-C28 -> 0 | J28: =IF(C28=0,0,I28/C28)*100 -> 0
A29: 政府住房基金收入 | B29: 50 | C29: 224 | D29: =IF(B29=0,0,C29/B29)*100 -> 448 | E29: =SUM(F29:H29) -> 200 | F29: 200 | I29: =E29-C29 -> -24 | J29: =IF(C29=0,0,I29/C29)*100 -> -10.714286 | N29: 98 | O29: 270 | P29: 270
A30: 其他收入 | B30: 0 | C30: 1 | D30: =IF(B30=0,0,C30/B30)*100 -> 0 | E30: =SUM(F30:H30) -> 0 | I30: =E30-C30 -> -1 | J30: =IF(C30=0,0,I30/C30)*100 -> -100
A31: 一般公共预算收入合计 | B31: =SUM(B7,B22) -> 79000 | C31: =SUM(C7,C22) -> 53420 | D31: =IF(B31=0,0,C31/B31)*100 -> 67.620253 | E31: =SUM(E7,E22) -> 55000 | F31: =SUM(F7,F22) -> 55000 | I31: =E31-C31 -> 1580 | J31: =IF(C31=0,0,I31/C31)*100 -> 2.9576937 | L31: =SUM(L7,L22) -> 1912 | M31: =SUM(M7,M22) -> 58000 | N31: =SUM(N7,N22) -> 80098 | O31: =SUM(O7,O22) -> 82010 | P31: =SUM(P7,P22) -> 125770.34
A32: 转移性收入 | B32: =SUM(B33,B92,B93,B97:B99) -> 231685 | C32: =SUM(C33,C92,C93,C97:C99) -> 300548 | D32: =IF(B32=0,0,C32/B32)*100 -> 129.72268 | E32: =SUM(E33,E92,E93,E97:E99) -> 254314 | F32: =SUM(F33,F92,F93,F97:F99) -> 106085 | G32: =SUM(G33,G92,G93,G97:G99) -> 97503 | H32: =SUM(H33,H92,H93,H97:H99) -> 50726 | I32: =E32-C32 -> -46234 | J32: =IF(C32=0,0,I32/C32)*100 -> -15.383233 | P32: 119213
A33: 上级补助收入 | B33: 148979 | C33: =SUM(C34,C41,C70) -> 213219 | D33: =IF(B33=0,0,C33/B33)*100 -> 143.12017 | E33: =SUM(E34,E41,E70) -> 172968 | F33: =SUM(F34,F41,F70) -> 86165 | G33: =SUM(G34,G41,G70) -> 86803 | H33: =SUM(H34,H41,H70) -> 0 | I33: =E33-C33 -> -40251 | J33: =IF(C33=0,0,I33/C33)*100 -> -18.877774 | P33: =(P31-P32)/P32 -> 0.055005237
A34: 返还性收入 | B34: 9510 | C34: =SUM(C35:C40) -> 9510 | D34: =IF(B34=0,0,C34/B34)*100 -> 100 | E34: =SUM(E35:E40) -> 9510 | F34: =SUM(F35:F40) -> 9510 | G34: =SUM(G35:G40) -> 0 | H34: =SUM(H35:H40) -> 0 | I34: =E34-C34 -> 0 | J34: =IF(C34=0,0,I34/C34)*100 -> 0
A35: 增值税税收返还收入 | B35: 5742 | C35: 1432 | D35: =IF(B35=0,0,C35/B35)*100 -> 24.939046 | E35: =SUM(F35:H35) -> 1432 | F35: 1432 | I35: =E35-C35 -> 0 | J35: =IF(C35=0,0,I35/C35)*100 -> 0
A36: 消费税基数返还收入 | B36: 36 | C36: 586 | D36: =IF(B36=0,0,C36/B36)*100 -> 1627.7778 | E36: =SUM(F36:H36) -> 586 | F36: 586 | I36: =E36-C36 -> 0 | J36: =IF(C36=0,0,I36/C36)*100 -> 0
A37: 所得税基数返还收入 | B37: 1432 | C37: 5742 | D37: =IF(B37=0,0,C37/B37)*100 -> 400.97765 | E37: =SUM(F37:H37) -> 5742 | F37: 5742 | I37: =E37-C37 -> 0 | J37: =IF(C37=0,0,I37/C37)*100 -> 0
A38: 成品油价格和税费改革税收返还收入 | B38: 586 | C38: 36 | D38: =IF(B38=0,0,C38/B38)*100 -> 6.1433447 | E38: =SUM(F38:H38) -> 36 | F38: 36 | I38: =E38-C38 -> 0 | J38: =IF(C38=0,0,I38/C38)*100 -> 0
A39: 增值税“五五分享”税收返还收入 | B39: 180 | C39: 180 | D39: =IF(B39=0,0,C39/B39)*100 -> 100 | E39: =SUM(F39:H39) -> 180 | F39: 180 | I39: =E39-C39 -> 0 | J39: =IF(C39=0,0,I39/C39)*100 -> 0
A40: 其他返还性收入 | B40: 1534 | C40: 1534 | D40: =IF(B40=0,0,C40/B40)*100 -> 100 | E40: =SUM(F40:H40) -> 1534 | F40: 1534 | I40: =E40-C40 -> 0 | J40: =IF(C40=0,0,I40/C40)*100 -> 0
...

Sheet 全公支
A1: 附表2
B2: 柳城县一般公共预算2025年支出预算
K3: 单位：万元
A4: 科目编码 | B4: 项目 | C4: 2024年 | F4: 2025年预算
C5: 年初预算数 | D5: 执行数 | E5: 完成年初预算% | F5: 建议数 | J5: 比2024年年初预算增减
F6: 合计 | G6: 本级当年安排 | H6: 上级提前下达 | I6: 上年结转 | J6: 金额 | K6: %
A7: 201 | B7: 一般公共服务支出 | C7: =SUM(C8,C20,C29,C39,C50,C61,C72,C80,C89,C102,C111,C122,C134,C141,C149,C155,C162,C169,C176,C183,C190,C198,C204,C210,C217,C245,C232,C239) -> 25055 | D7: =SUM(D8,D20,D29,D39,D50,D61,D72,D80,D89,D102,D111,D122,D134,D141,D149,D155,D162,D169,D176,D183,D190,D198,D204,D210,D217,D245,D232,D239) -> 28689 | E7: =IF(C7=0,0,D7/C7)*100 -> 114.50409 | F7: =G7+H7+I7 -> 23240 | G7: =SUM(G8,G20,G29,G39,G50,G61,G72,G80,G89,G102,G111,G122,G134,G141,G149,G155,G162,G169,G176,G183,G190,G198,G204,G210,G217,G245,G232,G239) -> 22449 | H7: =SUM(H8,H20,H29,H39,H50,H61,H72,H80,H89,H102,H111,H122,H134,H141,H149,H155,H162,H169,H176,H183,H190,H198,H204,H210,H217,H245,H232,H239) -> 133 | I7: =SUM(I8,I20,I29,I39,I50,I61,I72,I80,I89,I102,I111,I122,I134,I141,I149,I155,I162,I169,I176,I183,I190,I198,I204,I210,I217,I245,I232,I239) -> 658 | J7: =F7-C7 -> -1815 | K7: =IF(C7=0,0,J7/C7*100) -> -7.2440631
A8: 20101 | B8: 人大事务 | C8: 451 | D8: =SUM(D9:D19) -> 498 | E8: =IF(C8=0,0,D8/C8)*100 -> 110.42129 | F8: =G8+H8+I8 -> 437 | G8: =SUM(G9:G19) -> 437 | H8: =SUM(H9:H19) -> 0 | I8: =SUM(I9:I19) -> 0 | J8: =F8-C8 -> -14 | K8: =IF(C8=0,0,J8/C8*100) -> -3.1042129
A9: 2010101 | B9: 行政运行（人大事务） | C9: 396 | D9: 374 | E9: =IF(C9=0,0,D9/C9)*100 -> 94.444444 | F9: =G9+H9+I9 -> 376 | G9: 376 | J9: =F9-C9 -> -20 | K9: =IF(C9=0,0,J9/C9*100) -> -5.0505051
A10: 2010102 | B10: 一般行政管理事务（人大事务） | C10: 0 | D10: 8 | E10: =IF(C10=0,0,D10/C10)*100 -> 0 | F10: =G10+H10+I10 -> 0 | J10: =F10-C10 -> 0 | K10: =IF(C10=0,0,J10/C10*100) -> 0
A11: 2010103 | B11: 机关服务（人大事务） | C11: 0 | D11: 0 | E11: =IF(C11=0,0,D11/C11)*100 -> 0 | F11: =G11+H11+I11 -> 0 | J11: =F11-C11 -> 0 | K11: =IF(C11=0,0,J11/C11*100) -> 0
A12: 2010104 | B12: 人大会议 | C12: 45 | D12: 44 | E12: =IF(C12=0,0,D12/C12)*100 -> 97.777778 | F12: =G12+H12+I12 -> 45 | G12: 45 | J12: =F12-C12 -> 0 | K12: =IF(C12=0,0,J12/C12*100) -> 0
A13: 2010105 | B13: 人大立法 | C13: 0 | D13: 0 | E13: =IF(C13=0,0,D13/C13)*100 -> 0 | F13: =G13+H13+I13 -> 0 | J13: =F13-C13 -> 0 | K13: =IF(C13=0,0,J13/C13*100) -> 0
A14: 2010106 | B14: 人大监督 | C14: 0 | D14: 0 | E14: =IF(C14=0,0,D14/C14)*100 -> 0 | F14: =G14+H14+I14 -> 0 | J14: =F14-C14 -> 0 | K14: =IF(C14=0,0,J14/C14*100) -> 0
A15: 2010107 | B15: 人大代表履职能力提升 | C15: 0 | D15: 10 | E15: =IF(C15=0,0,D15/C15)*100 -> 0 | F15: =G15+H15+I15 -> 0 | J15: =F15-C15 -> 0 | K15: =IF(C15=0,0,J15/C15*100) -> 0
A16: 2010108 | B16: 代表工作 | C16: 0 | D16: 0 | E16: =IF(C16=0,0,D16/C16)*100 -> 0 | F16: =G16+H16+I16 -> 0 | J16: =F16-C16 -> 0 | K16: =IF(C16=0,0,J16/C16*100) -> 0
A17: 2010109 | B17: 人大信访工作 | C17: 0 | D17: 0 | E17: =IF(C17=0,0,D17/C17)*100 -> 0 | F17: =G17+H17+I17 -> 0 | J17: =F17-C17 -> 0 | K17: =IF(C17=0,0,J17/C17*100) -> 0
A18: 2010150 | B18: 事业运行（人大事务） | C18: 10 | D18: 12 | E18: =IF(C18=0,0,D18/C18)*100 -> 120 | F18: =G18+H18+I18 -> 16 | G18: 16 | J18: =F18-C18 -> 6 | K18: =IF(C18=0,0,J18/C18*100) -> 60
A19: 2010199 | B19: 其他人大事务支出 | C19: 0 | D19: 50 | E19: =IF(C19=0,0,D19/C19)*100 -> 0 | F19: =G19+H19+I19 -> 0 | J19: =F19-C19 -> 0 | K19: =IF(C19=0,0,J19/C19*100) -> 0
A20: 20102 | B20: 政协事务 | C20: 390 | D20: =SUM(D21:D28) -> 345 | E20: =IF(C20=0,0,D20/C20)*100 -> 88.461538 | F20: =G20+H20+I20 -> 337 | G20: =SUM(G21:G28) -> 337 | H20: =SUM(H21:H28) -> 0 | I20: =SUM(I21:I28) -> 0 | J20: =F20-C20 -> -53 | K20: =IF(C20=0,0,J20/C20*100) -> -13.589744
A21: 2010201 | B21: 行政运行（政协事务） | C21: 340 | D21: 313 | E21: =IF(C21=0,0,D21/C21)*100 -> 92.058824 | F21: =G21+H21+I21 -> 283 | G21: 283 | J21: =F21-C21 -> -57 | K21: =IF(C21=0,0,J21/C21*100) -> -16.764706
A22: 2010202 | B22: 一般行政管理事务（政协事务） | C22: 0 | D22: 2 | E22: =IF(C22=0,0,D22/C22)*100 -> 0 | F22: =G22+H22+I22 -> 0 | J22: =F22-C22 -> 0 | K22: =IF(C22=0,0,J22/C22*100) -> 0
A23: 2010203 | B23: 机关服务（政协事务） | C23: 0 | D23: 0 | E23: =IF(C23=0,0,D23/C23)*100 -> 0 | F23: =G23+H23+I23 -> 0 | J23: =F23-C23 -> 0 | K23: =IF(C23=0,0,J23/C23*100) -> 0
A24: 2010204 | B24: 政协会议 | C24: 33 | D24: 12 | E24: =IF(C24=0,0,D24/C24)*100 -> 36.363636 | F24: =G24+H24+I24 -> 33 | G24: 33 | J24: =F24-C24 -> 0 | K24: =IF(C24=0,0,J24/C24*100) -> 0
A25: 2010205 | B25: 委员视察 | C25: 0 | D25: 0 | E25: =IF(C25=0,0,D25/C25)*100 -> 0 | F25: =G25+H25+I25 -> 0 | J25: =F25-C25 -> 0 | K25: =IF(C25=0,0,J25/C25*100) -> 0
A26: 2010206 | B26: 参政议政 | C26: 0 | D26: 0 | E26: =IF(C26=0,0,D26/C26)*100 -> 0 | F26: =G26+H26+I26 -> 0 | J26: =F26-C26 -> 0 | K26: =IF(C26=0,0,J26/C26*100) -> 0
A27: 2010250 | B27: 事业运行（政协事务） | C27: 17 | D27: 18 | E27: =IF(C27=0,0,D27/C27)*100 -> 105.88235 | F27: =G27+H27+I27 -> 21 | G27: 21 | J27: =F27-C27 -> 4 | K27: =IF(C27=0,0,J27/C27*100) -> 23.529412
A28: 2010299 | B28: 其他政协事务支出 | C28: 0 | D28: 0 | E28: =IF(C28=0,0,D28/C28)*100 -> 0 | F28: =G28+H28+I28 -> 0 | J28: =F28-C28 -> 0 | K28: =IF(C28=0,0,J28/C28*100) -> 0
A29: 20103 | B29: 政府办公厅（室）及相关机构事务 | C29: 12030 | D29: =SUM(D30:D38) -> 12776 | E29: =IF(C29=0,0,D29/C29)*100 -> 106.20116 | F29: =G29+H29+I29 -> 10378 | G29: =SUM(G30:G38) -> 10378 | H29: =SUM(H30:H38) -> 0 | I29: =SUM(I30:I38) -> 0 | J29: =F29-C29 -> -1652 | K29: =IF(C29=0,0,J29/C29*100) -> -13.732336
A30: 2010301 | B30: 行政运行（政府办公厅（室）及相关机构事务） | C30: 7732 | D30: 8132 | E30: =IF(C30=0,0,D30/C30)*100 -> 105.17331 | F30: =G30+H30+I30 -> 6195 | G30: 6195 | J30: =F30-C30 -> -1537 | K30: =IF(C30=0,0,J30/C30*100) -> -19.878427
A31: 2010302 | B31: 一般行政管理事务（政府办公厅（室）及相关机构事务） | C31: 90 | D31: 617 | E31: =IF(C31=0,0,D31/C31)*100 -> 685.55556 | F31: =G31+H31+I31 -> 53 | G31: 53 | J31: =F31-C31 -> -37 | K31: =IF(C31=0,0,J31/C31*100) -> -41.111111
A32: 2010303 | B32: 机关服务（政府办公厅（室）及相关机构事务） | C32: 614 | D32: 783 | E32: =IF(C32=0,0,D32/C32)*100 -> 127.52443 | F32: =G32+H32+I32 -> 581 | G32: 581 | J32: =F32-C32 -> -33 | K32: =IF(C32=0,0,J32/C32*100) -> -5.3745928
A33: 2010304 | B33: 专项服务 | C33: 0 | D33: 0 | E33: =IF(C33=0,0,D33/C33)*100 -> 0 | F33: =G33+H33+I33 -> 0 | J33: =F33-C33 -> 0 | K33: =IF(C33=0,0,J33/C33*100) -> 0
A34: 2010305 | B34: 专项业务及机关事务管理活动 | C34: 0 | D34: 0 | E34: =IF(C34=0,0,D34/C34)*100 -> 0 | F34: =G34+H34+I34 -> 0 | J34: =F34-C34 -> 0 | K34: =IF(C34=0,0,J34/C34*100) -> 0
A35: 2010306 | B35: 政务公开审批 | C35: 0 | D35: 0 | E35: =IF(C35=0,0,D35/C35)*100 -> 0 | F35: =G35+H35+I35 -> 0 | J35: =F35-C35 -> 0 | K35: =IF(C35=0,0,J35/C35*100) -> 0
A36: 2010309 | B36: 参事事务 | C36: 0 | D36: 0 | E36: =IF(C36=0,0,D36/C36)*100 -> 0 | F36: =G36+H36+I36 -> 0 | J36: =F36-C36 -> 0 | K36: =IF(C36=0,0,J36/C36*100) -> 0
A37: 2010350 | B37: 事业运行（政府办公厅（室）及相关机构事务） | C37: 1153 | D37: 1108 | E37: =IF(C37=0,0,D37/C37)*100 -> 96.097138 | F37: =G37+H37+I37 -> 1309 | G37: 1309 | J37: =F37-C37 -> 156 | K37: =IF(C37=0,0,J37/C37*100) -> 13.529922
A38: 2010399 | B38: 其他政府办公厅（室）及相关机构事务支出 | C38: 2441 | D38: 2136 | E38: =IF(C38=0,0,D38/C38)*100 -> 87.505121 | F38: =G38+H38+I38 -> 2240 | G38: 2240 | J38: =F38-C38 -> -201 | K38: =IF(C38=0,0,J38/C38*100) -> -8.2343302
A39: 20104 | B39: 发展与改革事务 | C39: 470 | D39: =SUM(D40:D49) -> 741 | E39: =IF(C39=0,0,D39/C39)*100 -> 157.65957 | F39: =G39+H39+I39 -> 525 | G39: =SUM(G40:G49) -> 351 | H39: =SUM(H40:H49) -> 0 | I39: =SUM(I40:I49) -> 174 | J39: =F39-C39 -> 55 | K39: =IF(C39=0,0,J39/C39*100) -> 11.702128
A40: 2010401 | B40: 行政运行（发展与改革事务） | C40: 215 | D40: 200 | E40: =IF(C40=0,0,D40/C40)*100 -> 93.023256 | F40: =G40+H40+I40 -> 139 | G40: 139 | J40: =F40-C40 -> -76 | K40: =IF(C40=0,0,J40/C40*100) -> -35.348837
...

Sheet 本公收
A1: 附表3
A2: 柳城县本级一般公共预算2025年收入预算
J3: 单位：万元
A4: 项目 | B4: 2024年 | E4: 2025年预算
B5: 年初预算数 | C5: 执行数 | D5: 完成年初预算% | E5: 建议数 | I5: 比2024年执行数增减
E6: 合计 | F6: 本级当年安排 | G6: 上级提前下达 | H6: 上年结转 | I6: 金额 | J6: 比率 | M6: 税收全口径
A7: 一、税收收入 | B7: 49000 | C7: 38453 | D7: 78.47551 | E7: 42000 | F7: 42000 | I7: 3547 | J7: 9.2242478 | L7: 1912 | M7: 58000 | N7: 24328 | O7: 26240 | P7: 70000.339
A8: 增值税 | B8: 19000 | C8: 15116 | D8: 79.557895 | E8: 16700 | F8: 16700 | I8: 1584 | J8: 10.478963 | M8: 35000 | N8: 11128 | O8: 12741 | P8: 39815.625
A9: 企业所得税 | B9: 6500 | C9: 4546 | D9: 69.938462 | E9: 5000 | F9: 5000 | I9: 454 | J9: 9.9868016 | M9: 8900 | N9: 3500 | O9: 6600 | P9: 22000
A10: 个人所得税 | B10: 1000 | C10: 583 | D10: 58.3 | E10: 700 | F10: 700 | I10: 117 | J10: 20.068611 | M10: 4000 | N10: 700 | O10: 400 | P10: 1600
A11: 环境保护税 | B11: 200 | C11: 156 | D11: 78 | E11: 200 | F11: 200 | I11: 44 | J11: 28.205128 | M11: 300 | N11: 200 | O11: 200 | P11: 285.71429
A12: 资源税 | B12: 700 | C12: 431 | D12: 61.571429 | E12: 500 | F12: 500 | I12: 69 | J12: 16.009281 | M12: 1500 | N12: 900 | O12: 700 | P12: 700
A13: 城市维护建设税 | B13: 2000 | C13: 2157 | D13: 107.85 | E13: 2400 | F13: 2400 | I13: 243 | J13: 11.265647 | M13: 1500 | N13: 1500 | O13: 1000 | P13: 1000
A14: 房产税 | B14: 1000 | C14: 2679 | D14: 267.9 | E14: 2300 | F14: 2300 | I14: -379 | J14: -14.14707 | M14: 1000 | N14: 1000 | O14: 800 | P14: 800
A15: 印花税 | B15: 2000 | C15: 1602 | D15: 80.1 | E15: 1800 | F15: 1800 | I15: 198 | J15: 12.359551 | M15: 800 | N15: 1000 | O15: 799 | P15: 799
A16: 城镇土地使用税 | B16: 1200 | C16: 1776 | D16: 148 | E16: 2000 | F16: 2000 | I16: 224 | J16: 12.612613 | M16: 900 | N16: 1000 | O16: 1000 | P16: 1000
A17: 土地增值税 | B17: 1500 | C17: 96 | D17: 6.4 | E17: 100 | F17: 100 | I17: 4 | J17: 4.1666667 | M17: 1700 | N17: 1100 | O17: 800 | P17: 800
A18: 车船税 | B18: 3100 | C18: 3526 | D18: 113.74194 | E18: 3600 | F18: 3600 | I18: 74 | J18: 2.0986954 | M18: 700 | N18: 700 | O18: 600 | P18: 600
A19: 耕地占用税 | B19: 8000 | C19: 4647 | D19: 58.0875 | E19: 5500 | F19: 5500 | I19: 853 | J19: 18.355929 | M19: 200 | N19: 100
A20: 契税 | B20: 2800 | C20: 1138 | D20: 40.642857 | E20: 1200 | F20: 1200 | I20: 62 | J20: 5.4481547 | M20: 1500 | N20: 1500 | O20: 600 | P20: 600
A21: 其他税收收入 | B21: 0 | D21: 0 | E21: 0 | I21: 0 | J21: 0
A22: 二、非税收入 | B22: 30000 | C22: 14967 | D22: 49.89 | E22: 13000 | F22: 13000 | I22: -1967 | J22: -13.142246 | L22: 0 | N22: 55770 | O22: 55770 | P22: 55770
A23: 专项收入 | B23: 2800 | C23: 3256 | D23: 116.28571 | E23: 3100 | F23: 3100 | I23: -156 | J23: -4.7911548 | N23: 2500 | O23: 2500 | P23: 2500
A24: 行政事业性收费收入 | B24: 2500 | C24: 2841 | D24: 113.64 | E24: 2900 | F24: 2900 | I24: 59 | J24: 2.0767335 | N24: 2500 | O24: 2500 | P24: 2500
A25: 罚没收入 | B25: 2500 | C25: 2992 | D25: 119.68 | E25: 3000 | F25: 3000 | I25: 8 | J25: 0.26737968 | N25: 2500 | O25: 2500 | P25: 2500
A26: 国有资本经营收入 | B26: 2000 | C26: 1620 | D26: 81 | E26: 0 | I26: -1620 | J26: -100
A27: 国有资源(资产)有偿使用收入 | B27: 20150 | C27: 4033 | D27: 20.014888 | E27: 3800 | F27: 3800 | I27: -233 | J27: -5.777337 | N27: 48172 | O27: 48000 | P27: 48000
A28: 捐赠收入 | B28: 0 | D28: 0 | E28: 0 | I28: 0 | J28: 0
A29: 政府住房基金收入 | B29: 50 | C29: 224 | D29: 448 | E29: 200 | F29: 200 | I29: -24 | J29: -10.714286 | N29: 98 | O29: 270 | P29: 270
A30: 其他收入 | B30: 0 | C30: 1 | D30: 0 | E30: 0 | I30: -1 | J30: -100
A31: 一般公共预算收入合计 | B31: 79000 | C31: 53420 | D31: 67.620253 | E31: 55000 | F31: 55000 | G31: 0 | I31: 1580 | J31: 2.9576937 | L31: 1912 | M31: 58000 | N31: 80098 | O31: 82010 | P31: 125770.34
A32: 转移性收入 | B32: 231685 | C32: 300548 | D32: 129.72268 | E32: 254314 | F32: 106085 | G32: 97503 | H32: 50726 | I32: -46234 | J32: -15.383233 | P32: 119213
A33: 上级补助收入 | B33: 148979 | C33: 213219 | D33: 143.12017 | E33: 172968 | F33: 86165 | G33: 86803 | H33: 0 | I33: -40251 | J33: -18.877774 | P33: 0.055005237
A34: 返还性收入 | B34: 9510 | C34: 9510 | D34: 100 | E34: 9510 | F34: 9510 | H34: 0 | I34: 0 | J34: 0
A35: 增值税税收返还收入 | B35: 5742 | C35: 1432 | D35: 24.939046 | E35: 1432 | F35: 1432 | I35: 0 | J35: 0
A36: 消费税基数返还收入 | B36: 36 | C36: 586 | D36: 1627.7778 | E36: 586 | F36: 586 | I36: 0 | J36: 0
A37: 所得税基数返还收入 | B37: 1432 | C37: 5742 | D37: 400.97765 | E37: 5742 | F37: 5742 | I37: 0 | J37: 0
A38: 成品油价格和税费改革税收返还收入 | B38: 586 | C38: 36 | D38: 6.1433447 | E38: 36 | F38: 36 | I38: 0 | J38: 0
A39: 增值税“五五分享”税收返还收入 | B39: 180 | C39: 180 | D39: 100 | E39: 180 | F39: 180 | I39: 0 | J39: 0
A40: 其他返还性收入 | B40: 1534 | C40: 1534 | D40: 100 | E40: 1534 | F40: 1534 | I40: 0 | J40: 0
...

Sheet 本公支
A1: 附表4
B2: 柳城县本级一般公共预算2025年支出预算
K3: 单位：万元
A4: 科目编码 | B4: 项目 | C4: 2024年 | F4: 2025年预算
C5: 年初预算数 | D5: 执行数 | E5: 完成年初预算% | F5: 建议数 | J5: 比2024年年初预算增减
F6: 合计 | G6: 本级当年安排 | H6: 上级提前下达 | I6: 上年结转 | J6: 金额 | K6: %
A7: 201 | B7: 一般公共服务支出 | C7: =SUM(C8,C20,C29,C39,C50,C61,C72,C80,C89,C102,C111,C122,C134,C141,C149,C155,C162,C169,C176,C183,C190,C198,C204,C210,C217,C245,C232,C239) -> 25055 | D7: =SUM(D8,D20,D29,D39,D50,D61,D72,D80,D89,D102,D111,D122,D134,D141,D149,D155,D162,D169,D176,D183,D190,D198,D204,D210,D217,D245,D232,D239) -> 28689 | E7: =IF(C7=0,0,D7/C7)*100 -> 114.50409 | F7: =G7+H7+I7 -> 23240 | G7: =SUM(G8,G20,G29,G39,G50,G61,G72,G80,G89,G102,G111,G122,G134,G141,G149,G155,G162,G169,G176,G183,G190,G198,G204,G210,G217,G245,G232,G239) -> 22449 | H7: =SUM(H8,H20,H29,H39,H50,H61,H72,H80,H89,H102,H111,H122,H134,H141,H149,H155,H162,H169,H176,H183,H190,H198,H204,H210,H217,H245,H232,H239) -> 133 | I7: =SUM(I8,I20,I29,I39,I50,I61,I72,I80,I89,I102,I111,I122,I134,I141,I149,I155,I162,I169,I176,I183,I190,I198,I204,I210,I217,I245,I232,I239) -> 658 | J7: =F7-C7 -> -1815 | K7: =IF(C7=0,0,J7/C7*100) -> -7.2440631
A8: 20101 | B8: 人大事务 | C8: 451 | D8: =SUM(D9:D19) -> 498 | E8: =IF(C8=0,0,D8/C8)*100 -> 110.42129 | F8: =G8+H8+I8 -> 437 | G8: =SUM(G9:G19) -> 437 | H8: =SUM(H9:H19) -> 0 | I8: =SUM(I9:I19) -> 0 | J8: =F8-C8 -> -14 | K8: =IF(C8=0,0,J8/C8*100) -> -3.1042129
A9: 2010101 | B9: 行政运行（人大事务） | C9: 396 | D9: 374 | E9: =IF(C9=0,0,D9/C9)*100 -> 94.444444 | F9: =G9+H9+I9 -> 376 | G9: 376 | J9: =F9-C9 -> -20 | K9: =IF(C9=0,0,J9/C9*100) -> -5.0505051
A10: 2010102 | B10: 一般行政管理事务（人大事务） | C10: 0 | D10: 8 | E10: =IF(C10=0,0,D10/C10)*100 -> 0 | F10: =G10+H10+I10 -> 0 | J10: =F10-C10 -> 0 | K10: =IF(C10=0,0,J10/C10*100) -> 0
A11: 2010103 | B11: 机关服务（人大事务） | C11: 0 | D11: 0 | E11: =IF(C11=0,0,D11/C11)*100 -> 0 | F11: =G11+H11+I11 -> 0 | J11: =F11-C11 -> 0 | K11: =IF(C11=0,0,J11/C11*100) -> 0
A12: 2010104 | B12: 人大会议 | C12: 45 | D12: 44 | E12: =IF(C12=0,0,D12/C12)*100 -> 97.777778 | F12: =G12+H12+I12 -> 45 | G12: 45 | J12: =F12-C12 -> 0 | K12: =IF(C12=0,0,J12/C12*100) -> 0
A13: 2010105 | B13: 人大立法 | C13: 0 | D13: 0 | E13: =IF(C13=0,0,D13/C13)*100 -> 0 | F13: =G13+H13+I13 -> 0 | J13: =F13-C13 -> 0 | K13: =IF(C13=0,0,J13/C13*100) -> 0
A14: 2010106 | B14: 人大监督 | C14: 0 | D14: 0 | E14: =IF(C14=0,0,D14/C14)*100 -> 0 | F14: =G14+H14+I14 -> 0 | J14: =F14-C14 -> 0 | K14: =IF(C14=0,0,J14/C14*100) -> 0
A15: 2010107 | B15: 人大代表履职能力提升 | C15: 0 | D15: 10 | E15: =IF(C15=0,0,D15/C15)*100 -> 0 | F15: =G15+H15+I15 -> 0 | J15: =F15-C15 -> 0 | K15: =IF(C15=0,0,J15/C15*100) -> 0
A16: 2010108 | B16: 代表工作 | C16: 0 | D16: 0 | E16: =IF(C16=0,0,D16/C16)*100 -> 0 | F16: =G16+H16+I16 -> 0 | J16: =F16-C16 -> 0 | K16: =IF(C16=0,0,J16/C16*100) -> 0
A17: 2010109 | B17: 人大信访工作 | C17: 0 | D17: 0 | E17: =IF(C17=0,0,D17/C17)*100 -> 0 | F17: =G17+H17+I17 -> 0 | J17: =F17-C17 -> 0 | K17: =IF(C17=0,0,J17/C17*100) -> 0
A18: 2010150 | B18: 事业运行（人大事务） | C18: 10 | D18: 12 | E18: =IF(C18=0,0,D18/C18)*100 -> 120 | F18: =G18+H18+I18 -> 16 | G18: 16 | J18: =F18-C18 -> 6 | K18: =IF(C18=0,0,J18/C18*100) -> 60
A19: 2010199 | B19: 其他人大事务支出 | C19: 0 | D19: 50 | E19: =IF(C19=0,0,D19/C19)*100 -> 0 | F19: =G19+H19+I19 -> 0 | J19: =F19-C19 -> 0 | K19: =IF(C19=0,0,J19/C19*100) -> 0
A20: 20102 | B20: 政协事务 | C20: 390 | D20: =SUM(D21:D28) -> 345 | E20: =IF(C20=0,0,D20/C20)*100 -> 88.461538 | F20: =G20+H20+I20 -> 337 | G20: =SUM(G21:G28) -> 337 | H20: =SUM(H21:H28) -> 0 | I20: =SUM(I21:I28) -> 0 | J20: =F20-C20 -> -53 | K20: =IF(C20=0,0,J20/C20*100) -> -13.589744
A21: 2010201 | B21: 行政运行（政协事务） | C21: 340 | D21: 313 | E21: =IF(C21=0,0,D21/C21)*100 -> 92.058824 | F21: =G21+H21+I21 -> 283 | G21: 283 | J21: =F21-C21 -> -57 | K21: =IF(C21=0,0,J21/C21*100) -> -16.764706
A22: 2010202 | B22: 一般行政管理事务（政协事务） | C22: 0 | D22: 2 | E22: =IF(C22=0,0,D22/C22)*100 -> 0 | F22: =G22+H22+I22 -> 0 | J22: =F22-C22 -> 0 | K22: =IF(C22=0,0,J22/C22*100) -> 0
A23: 2010203 | B23: 机关服务（政协事务） | C23: 0 | D23: 0 | E23: =IF(C23=0,0,D23/C23)*100 -> 0 | F23: =G23+H23+I23 -> 0 | J23: =F23-C23 -> 0 | K23: =IF(C23=0,0,J23/C23*100) -> 0
A24: 2010204 | B24: 政协会议 | C24: 33 | D24: 12 | E24: =IF(C24=0,0,D24/C24)*100 -> 36.363636 | F24: =G24+H24+I24 -> 33 | G24: 33 | J24: =F24-C24 -> 0 | K24: =IF(C24=0,0,J24/C24*100) -> 0
A25: 2010205 | B25: 委员视察 | C25: 0 | D25: 0 | E25: =IF(C25=0,0,D25/C25)*100 -> 0 | F25: =G25+H25+I25 -> 0 | J25: =F25-C25 -> 0 | K25: =IF(C25=0,0,J25/C25*100) -> 0
A26: 2010206 | B26: 参政议政 | C26: 0 | D26: 0 | E26: =IF(C26=0,0,D26/C26)*100 -> 0 | F26: =G26+H26+I26 -> 0 | J26: =F26-C26 -> 0 | K26: =IF(C26=0,0,J26/C26*100) -> 0
A27: 2010250 | B27: 事业运行（政协事务） | C27: 17 | D27: 18 | E27: =IF(C27=0,0,D27/C27)*100 -> 105.88235 | F27: =G27+H27+I27 -> 21 | G27: 21 | J27: =F27-C27 -> 4 | K27: =IF(C27=0,0,J27/C27*100) -> 23.529412
A28: 2010299 | B28: 其他政协事务支出 | C28: 0 | D28: 0 | E28: =IF(C28=0,0,D28/C28)*100 -> 0 | F28: =G28+H28+I28 -> 0 | J28: =F28-C28 -> 0 | K28: =IF(C28=0,0,J28/C28*100) -> 0
A29: 20103 | B29: 政府办公厅（室）及相关机构事务 | C29: 12030 | D29: =SUM(D30:D38) -> 12776 | E29: =IF(C29=0,0,D29/C29)*100 -> 106.20116 | F29: =G29+H29+I29 -> 10378 | G29: =SUM(G30:G38) -> 10378 | H29: =SUM(H30:H38) -> 0 | I29: =SUM(I30:I38) -> 0 | J29: =F29-C29 -> -1652 | K29: =IF(C29=0,0,J29/C29*100) -> -13.732336
A30: 2010301 | B30: 行政运行（政府办公厅（室）及相关机构事务） | C30: 7732 | D30: 8132 | E30: =IF(C30=0,0,D30/C30)*100 -> 105.17331 | F30: =G30+H30+I30 -> 6195 | G30: 6195 | J30: =F30-C30 -> -1537 | K30: =IF(C30=0,0,J30/C30*100) -> -19.878427
A31: 2010302 | B31: 一般行政管理事务（政府办公厅（室）及相关机构事务） | C31: 90 | D31: 617 | E31: =IF(C31=0,0,D31/C31)*100 -> 685.55556 | F31: =G31+H31+I31 -> 53 | G31: 53 | J31: =F31-C31 -> -37 | K31: =IF(C31=0,0,J31/C31*100) -> -41.111111
A32: 2010303 | B32: 机关服务（政府办公厅（室）及相关机构事务） | C32: 614 | D32: 783 | E32: =IF(C32=0,0,D32/C32)*100 -> 127.52443 | F32: =G32+H32+I32 -> 581 | G32: 581 | J32: =F32-C32 -> -33 | K32: =IF(C32=0,0,J32/C32*100) -> -5.3745928
A33: 2010304 | B33: 专项服务 | C33: 0 | D33: 0 | E33: =IF(C33=0,0,D33/C33)*100 -> 0 | F33: =G33+H33+I33 -> 0 | J33: =F33-C33 -> 0 | K33: =IF(C33=0,0,J33/C33*100) -> 0
A34: 2010305 | B34: 专项业务及机关事务管理活动 | C34: 0 | D34: 0 | E34: =IF(C34=0,0,D34/C34)*100 -> 0 | F34: =G34+H34+I34 -> 0 | J34: =F34-C34 -> 0 | K34: =IF(C34=0,0,J34/C34*100) -> 0
A35: 2010306 | B35: 政务公开审批 | C35: 0 | D35: 0 | E35: =IF(C35=0,0,D35/C35)*100 -> 0 | F35: =G35+H35+I35 -> 0 | J35: =F35-C35 -> 0 | K35: =IF(C35=0,0,J35/C35*100) -> 0
A36: 2010309 | B36: 参事事务 | C36: 0 | D36: 0 | E36: =IF(C36=0,0,D36/C36)*100 -> 0 | F36: =G36+H36+I36 -> 0 | J36: =F36-C36 -> 0 | K36: =IF(C36=0,0,J36/C36*100) -> 0
A37: 2010350 | B37: 事业运行（政府办公厅（室）及相关机构事务） | C37: 1153 | D37: 1108 | E37: =IF(C37=0,0,D37/C37)*100 -> 96.097138 | F37: =G37+H37+I37 -> 1309 | G37: 1309 | J37: =F37-C37 -> 156 | K37: =IF(C37=0,0,J37/C37*100) -> 13.529922
A38: 2010399 | B38: 其他政府办公厅（室）及相关机构事务支出 | C38: 2441 | D38: 2136 | E38: =IF(C38=0,0,D38/C38)*100 -> 87.505121 | F38: =G38+H38+I38 -> 2240 | G38: 2240 | J38: =F38-C38 -> -201 | K38: =IF(C38=0,0,J38/C38*100) -> -8.2343302
A39: 20104 | B39: 发展与改革事务 | C39: 470 | D39: =SUM(D40:D49) -> 741 | E39: =IF(C39=0,0,D39/C39)*100 -> 157.65957 | F39: =G39+H39+I39 -> 525 | G39: =SUM(G40:G49) -> 351 | H39: =SUM(H40:H49) -> 0 | I39: =SUM(I40:I49) -> 174 | J39: =F39-C39 -> 55 | K39: =IF(C39=0,0,J39/C39*100) -> 11.702128
A40: 2010401 | B40: 行政运行（发展与改革事务） | C40: 215 | D40: 200 | E40: =IF(C40=0,0,D40/C40)*100 -> 93.023256 | F40: =G40+H40+I40 -> 139 | G40: 139 | J40: =F40-C40 -> -76 | K40: =IF(C40=0,0,J40/C40*100) -> -35.348837
...

Sheet 本公基支（经济分类） 
A1: 附表5
B2: 柳城县本级一般公共预算2025年基本支出预算（按政府经济分类科目）
H3: 单位：万元
A4: 科目编码 | B4: 科目名称 | C4: 2025年预算建议数 | D4: 本级当年安排 | G4: 上级提前下达 | H4: 上年结转
D5: 小计 | E5: 基本支出 | F5: 项目支出
A6: 501 | B6: 一、机关工资福利支出 | C6: =SUM(E6:H6) -> 43095 | D6: =SUM(E6:F6) -> 43034 | E6: =SUM(E7:E10) -> 38062 | F6: =SUM(F7:F10) -> 4972 | G6: =SUM(G7:G10) -> 41 | H6: =SUM(H7:H10) -> 20
A7: 50101 | B7: 工资奖金津补贴 | C7: =SUM(E7:H7) -> 24461 | D7: =SUM(E7:F7) -> 24461 | E7: 23007 | F7: 1454
A8: 50102 | B8: 社会保障缴费 | C8: =SUM(E8:H8) -> 8624 | D8: =SUM(E8:F8) -> 8622 | E8: 7405 | F8: 1217 | G8: 2
A9: 50103 | B9: 住房公积金 | C9: =SUM(E9:H9) -> 2589 | D9: =SUM(E9:F9) -> 2550 | E9: 2546 | F9: 4 | G9: 39
A10: 50199 | B10: 其他工资福利支出 | C10: =SUM(E10:H10) -> 7421 | D10: =SUM(E10:F10) -> 7401 | E10: 5104 | F10: =2305-8 -> 2297 | H10: 20
A11: 502 | B11: 二、机关商品和服务支出 | C11: =SUM(E11:H11) -> 13339 | D11: =SUM(E11:F11) -> 5218 | E11: =SUM(E12:E21) -> 3389 | F11: =SUM(F12:F21) -> 1829 | G11: =SUM(G12:G21) -> 4867 | H11: =SUM(H12:H21) -> 3254
A12: 50201 | B12: 办公经费 | C12: =SUM(E12:H12) -> 3741 | D12: =SUM(E12:F12) -> 3313 | E12: 2629 | F12: 684 | G12: =348-44 -> 304 | H12: 124
A13: 50202 | B13: 会议费 | C13: =SUM(E13:H13) -> 168 | D13: =SUM(E13:F13) -> 155 | E13: 20 | F13: 135 | G13: 13
A14: 50203 | B14: 培训费 | C14: =SUM(E14:H14) -> 220 | D14: =SUM(E14:F14) -> 170 | E14: 20 | F14: 150 | G14: =6+44 -> 50
A15: 50204 | B15: 专用材料购置费 | C15: =SUM(E15:H15) -> 488 | D15: =SUM(E15:F15) -> 20 | F15: 20 | G15: =3+218 -> 221 | H15: 247
A16: 50205 | B16: 委托业务费 | C16: =SUM(E16:H16) -> 5494 | D16: =SUM(E16:F16) -> 1 | F16: 1 | G16: =3393+12 -> 3405 | H16: 2088
A17: 50206 | B17: 公务接待费 | C17: =SUM(E17:H17) -> 95 | D17: =SUM(E17:F17) -> 95 | E17: 70 | F17: 25
A18: 50207 | B18: 因公出国（境）费用 | C18: =SUM(E18:H18) -> 0 | D18: =SUM(E18:F18) -> 0
A19: 50208 | B19: 公务用车运行维护费 | C19: =SUM(E19:H19) -> 334 | D19: =SUM(E19:F19) -> 334 | E19: 330 | F19: 4
A20: 50209 | B20: 维修（护）费 | C20: =SUM(E20:H20) -> 296 | D20: =SUM(E20:F20) -> 180 | E20: 20 | F20: 160 | G20: 43 | H20: 73
A21: 50299 | B21: 其他商品和服务支出 | C21: =SUM(E21:H21) -> 2503 | D21: =SUM(E21:F21) -> 950 | E21: 300 | F21: 650 | G21: =151+680 -> 831 | H21: 722
A22: 503 | B22: 三、机关资本性支出 | C22: =SUM(E22:H22) -> 23979 | D22: =SUM(E22:F22) -> 389 | E22: =SUM(E23:E29) -> 0 | F22: =SUM(F23:F29) -> 389 | G22: =SUM(G23:G29) -> 11140 | H22: =SUM(H23:H29) -> 12450
A23: 50301 | B23: 房屋建筑物购建 | C23: =SUM(E23:H23) -> 1349 | D23: =SUM(E23:F23) -> 0 | G23: 937 | H23: 412
A24: 50302 | B24: 基础设施建设 | C24: =SUM(E24:H24) -> 19711 | D24: =SUM(E24:F24) -> 350 | F24: 350 | G24: =9934+60 -> 9994 | H24: 9367
A25: 50303 | B25: 公务用车购置 | C25: =SUM(E25:H25) -> 0 | D25: =SUM(E25:F25) -> 0
A26: 50305 | B26: 土地征迁补偿和安置支出 | C26: =SUM(E26:H26) -> 0 | D26: =SUM(E26:F26) -> 0
A27: 50306 | B27: 设备购置 | C27: =SUM(E27:H27) -> 2030 | D27: =SUM(E27:F27) -> 39 | F27: 39 | G27: 52 | H27: 1939
A28: 50307 | B28: 大型修缮 | C28: =SUM(E28:H28) -> 71 | D28: =SUM(E28:F28) -> 0 | G28: 71
A29: 50399 | B29: 其他资本性支出 | C29: =SUM(E29:H29) -> 818 | D29: =SUM(E29:F29) -> 0 | G29: 86 | H29: 732
A30: 504 | B30: 四、机关资本性支出（基本建设） | C30: =SUM(E30:H30) -> 3090 | D30: =SUM(E30:F30) -> 0 | E30: =SUM(E31:E36) -> 0 | F30: =SUM(F31:F36) -> 0 | G30: =SUM(G31:G36) -> 0 | H30: =SUM(H31:H36) -> 3090
A31: 50401 | B31: 房屋建筑物购建 | C31: =SUM(E31:H31) -> 3020 | D31: =SUM(E31:F31) -> 0 | H31: 3020
A32: 50402 | B32: 基础设施建设 | C32: =SUM(E32:H32) -> 0 | D32: =SUM(E32:F32) -> 0
A33: 50403 | B33: 公务用车购置 | C33: =SUM(E33:H33) -> 0 | D33: =SUM(E33:F33) -> 0
A34: 50404 | B34: 设备购置 | C34: =SUM(E34:H34) -> 0 | D34: =SUM(E34:F34) -> 0
A35: 50405 | B35: 大型修缮 | C35: =SUM(E35:H35) -> 0 | D35: =SUM(E35:F35) -> 0
A36: 50499 | B36: 其他资本性支出 | C36: =SUM(E36:H36) -> 70 | D36: =SUM(E36:F36) -> 0 | H36: 70
A37: 505 | B37: 五、对事业单位经常性补助 | C37: =SUM(E37:H37) -> 79179 | D37: =SUM(E37:F37) -> 68574 | E37: =SUM(E38:E40) -> 66660 | F37: =SUM(F38:F40) -> 1914 | G37: =SUM(G38:G40) -> 7786 | H37: =SUM(H38:H40) -> 2819
A38: 50501 | B38: 工资福利支出 | C38: =SUM(E38:H38) -> 67254 | D38: =SUM(E38:F38) -> 64449 | E38: =62772+8 -> 62780 | F38: 1669 | G38: 2606 | H38: 199
A39: 50502 | B39: 商品和服务支出 | C39: =SUM(E39:H39) -> 11915 | D39: =SUM(E39:F39) -> 4125 | E39: 3880 | F39: 245 | G39: =5022+148 -> 5170 | H39: 2620
A40: 50599 | B40: 其他对事业单位补助 | C40: =SUM(E40:H40) -> 10 | D40: =SUM(E40:F40) -> 0 | G40: 10
...

Sheet 税收转移
A1: 附表6
A2: 柳城县一般公共预算2025年税收返还和转移支付预算
G3: 单位：万元
A4: 项目 | B4: 2024年 | E4: 2025年预算
B5: 年初预算数 | C5: 执行数 | D5: 完成年初预算% | E5: 建议数 | F5: 比上年预算增减额 | G5: 比上年预算增减%
A6: 一、转移性收入 | B6: 231685 | C6: 300548 | D6: =IF(B6=0,0,C6/B6)*100 -> 129.72268 | E6: 254314 | F6: -46234 | G6: -15.383233
A7: （一）上级补助收入 | B7: 148979 | C7: 213219 | D7: =IF(B7=0,0,C7/B7)*100 -> 143.12017 | E7: 172968 | F7: -40251 | G7: -18.877774
A8: 1.返还性收入 | B8: 9510 | C8: 9510 | D8: =IF(B8=0,0,C8/B8)*100 -> 100 | E8: 9510 | F8: 0 | G8: 0
A9: （1）增值税税收返还收入 | B9: 5742 | C9: 1432 | D9: =IF(B9=0,0,C9/B9)*100 -> 24.939046 | E9: 1432 | F9: 0 | G9: 0
A10: （2）消费税基数返还收入 | B10: 36 | C10: 586 | D10: =IF(B10=0,0,C10/B10)*100 -> 1627.7778 | E10: 586 | F10: 0 | G10: 0
A11: （3）所得税基数返还收入 | B11: 1432 | C11: 5742 | D11: =IF(B11=0,0,C11/B11)*100 -> 400.97765 | E11: 5742 | F11: 0 | G11: 0
A12: （4）成品油价格和税费改革税收返还收入 | B12: 586 | C12: 36 | D12: =IF(B12=0,0,C12/B12)*100 -> 6.1433447 | E12: 36 | F12: 0 | G12: 0
A13: （5）增值税“五五分享”税收返还收入 | B13: 180 | C13: 180 | D13: =IF(B13=0,0,C13/B13)*100 -> 100 | E13: 180 | F13: 0 | G13: 0
A14: （6）其他返还性收入 | B14: 1534 | C14: 1534 | D14: =IF(B14=0,0,C14/B14)*100 -> 100 | E14: 1534 | F14: 0 | G14: 0
A15: 2.一般性转移支付收入 | B15: 135543 | C15: 192871 | D15: =IF(B15=0,0,C15/B15)*100 -> 142.29507 | E15: 156832 | F15: -36039 | G15: -18.685546
A16: （1）体制补助收入 | B16: 980 | C16: 980 | D16: =IF(B16=0,0,C16/B16)*100 -> 100 | E16: 980 | F16: 0 | G16: 0
A17: （2）均衡性转移支付补助收入 | B17: 35759 | C17: 46586 | D17: =IF(B17=0,0,C17/B17)*100 -> 130.27769 | E17: 37088 | F17: -9498 | G17: -20.388099
... A19: （4）结算补助收入 | B19: 394 | C19: 1896 | D19: =IF(B19=0,0,C19/B19)*100 -> 481.21827 | E19: 395 | F19: -1501 | G19: -79.166667
A20: （5）资源枯竭型城市转移支付补助收入 | B20: 0 | C20: 0 | D20: 0 | E20: 0 | F20: 0 | G20: 0
A21: （6）产粮（油）大县奖励资金收入 | B21: 0 | C21: 428 | D21: 0 | E21: 0 | F21: -428 | G21: -100
A22: （7）重点生态功能区转移支付收入 | B22: 0 | C22: 0 | D22: 0 | E22: 0 | F22: 0 | G22: 0
A23: （8）固定数额补助收入 | B23: 17159 | C23: 17421 | D23: =IF(B23=0,0,C23/B23)*100 -> 101.5269 | E23: 17159 | F23: -262 | G23: -1.503932
A24: （9）革命老区转移支付收入 | B24: 1036 | C24: 1151 | D24: =IF(B24=0,0,C24/B24)*100 -> 111.10039 | E24: 1036 | F24: -115 | G24: -9.9913119
A25: （10）民族地区转移支付收入 | B25: 3475 | C25: 9238 | D25: =IF(B25=0,0,C25/B25)*100 -> 265.84173 | E25: 3475 | F25: -5763 | G25: -62.383633
A26: （11）边境地区转移支付收入 | B26: 0 | C26: 0 | D26: =IF(B26=0,0,C26/B26)*100 -> 0 | E26: 0 | F26: 0 | G26: 0
A27: （12）巩固脱贫攻坚成果衔接乡村振兴转移支付收入 | B27: 6625 | C27: 13141 | D27: =IF(B27=0,0,C27/B27)*100 -> 198.35472 | E27: 8541 | F27: -4600 | G27: -35.004946
A28: （13）公共安全共同财政事权转移支付收入 | B28: 7 | C28: 971 | D28: =IF(B28=0,0,C28/B28)*100 -> 13871.429 | E28: 829 | F28: -142 | G28: -14.624099
A29: （14）教育共同财政事权转移支付收入 | B29: 9503 | C29: 11382 | D29: =IF(B29=0,0,C29/B29)*100 -> 119.7727 | E29: 9554 | F29: -1828 | G29: -16.060446
A30: （15）科学技术共同财政事权转移支付收入 | B30: 0 | C30: 10 | E30: 0 | F30: -10 | G30: -100
A31: （16）文化旅游体育与传媒共同财政事权转移支付收入 | B31: 300 | C31: 334 | D31: =IF(B31=0,0,C31/B31)*100 -> 111.33333 | E31: 81 | F31: -253 | G31: -75.748503
A32: （17）社会保障和就业共同财政事权转移支付收入 | B32: 19927 | C32: 27995 | D32: =IF(B32=0,0,C32/B32)*100 -> 140.48778 | E32: 22070 | F32: -5925 | G32: -21.164494
A33: （18）医疗卫生共同财政事权转移支付收入 | B33: 5272 | C33: 7639 | D33: =IF(B33=0,0,C33/B33)*100 -> 144.89757 | E33: 6747 | F33: -892 | G33: -11.676921
A34: （19）节能环保共同财政事权转移支付收入 | B34: 13 | C34: 13 | D34: =IF(B34=0,0,C34/B34)*100 -> 100 | E34: 384 | F34: 371 | G34: 2853.8462
A35: （20）农林水共同财政事权转移支付收入 | B35: 22217 | C35: 28856 | D35: =IF(B35=0,0,C35/B35)*100 -> 129.88252 | E35: 28920 | F35: 64 | G35: 0.22179096
A36: （21）交通运输共同财政事权转移支付收入 | B36: 272 | C36: 3113 | D36: =IF(B36=0,0,C36/B36)*100 -> 1144.4853 | E36: 718 | F36: -2395 | G36: -76.935432
A37: （22）住房保障共同财政事权转移支付收入 | B37: 450 | C37: 917 | D37: =IF(B37=0,0,C37/B37)*100 -> 203.77778 | E37: 330 | F37: -587 | G37: -64.013086
A38: （23）粮油物资储备共同财政事权转移支付收入 | B38: 130 | C38: 130 | D38: =IF(B38=0,0,C38/B38)*100 -> 100 | E38: 107 | F38: -23 | G38: -17.692308
A39: （24）灾害防治及应急管理共同财政事权转移支付收入 | B39: 200 | C39: 269 | D39: =IF(B39=0,0,C39/B39)*100 -> 134.5 | E39: 4 | F39: -265 | G39: -98.513011
A40: （25） 增值税留抵退税转移支付收入 | C40: 0 | D40: =IF(B40=0,0,C40/B40)*100 -> 0
A41: （26）其他退税减税降费转移支付收入 | C41: 0 | D41: =IF(B41=0,0,C41/B41)*100 -> 0
...

Sheet 转移支付分项目
A1: 附表7
A2: 柳城县一般公共预算2025年对下级财政转移支付支出分项目预算
B3: 单位：万元
A4: 项目 | B4: 2025年预算建议数
A6: 一、一般性转移支付
A7: 体制补助支出
A8: 均衡性转移支付支出
A9: 县级基本财力保障机制奖补资金支出
A10: 结算补助支出
A11: 资源枯竭型城市转移支付补助支出
A12: 产粮(油)大县转移支付支出
A13: 重点生态功能区转移支付支出
A14: 固定数额补助支出
A15: 革命老区转移支付支出
A16: 民族地区转移支付支出
A17: 欠发达地区转移支付支出
... A51: 说明：基于财政管理模式，县级财政已是财政体系最末级，不存在补助下级财政的一般公共预算转移支付支出。因此，本表无数据。

Sheet 转移支付分地区
A1: 附表8
A2: 柳城县一般公共预算2025年对下级财政转移支付支出分地区预算
C3: 单位：万元
A4: 项目 | B4: 合计 | C4: 分地区安排预算建议数
C5: xx区 | D5: xx地（市、州） | E5: xx县
A6: 总计
A7: 一、已分配转移支付
A8: (一)一般性转移支付
A9: 体制补助支出
A10: 均衡性转移支付支出
A11: 县级基本财力保障机制奖补资金支出
A12: 结算补助支出
A13: 资源枯竭型城市转移支付补助支出
A14: 产粮(油)大县转移支付支出
A15: 重点生态功能区转移支付支出
A16: 固定数额补助支出
A17: 革命老区转移支付支出
... A55: 说明：基于财政管理模式，县级财政已是财政体系最末级，不存在补助下级财政的一般公共预算转移支付支出。因此，本表无数据。

Sheet 一般债务
A1: 附表9
A2: 柳城县2024年一般债务余额及年度限额统计表
C3: 单位：万元
A4: 地区 | B4: 一般债务
B5: 期末余额 | C5: 年度限额
A6: 柳州市 | B6: =SUM(B7,B16) -> 120461 | C6: =SUM(C7,C16) -> 118091
A7: 市区 | B7: =SUM(B8:B15) -> 0 | C7: =SUM(C8:C15) -> 0
A8: 市本级
A9: 柳北区
A10: 柳南区
A11: 城中区
A12: 鱼峰区
A13: 柳江区
A14: 柳东新区
A15: 北部生态新区
A16: 县级 | B16: =SUM(B17:B21) -> 120461 | C16: =SUM(C17:C21) -> 118091
A17: 柳城县 | B17: 120461 | C17: 118091
A18: 鹿寨县
A19: 融安县
A20: 融水县
A21: 三江县

Sheet 全基收
A1: 附表10
A2: 柳城县政府性基金预算2025年收入预算
G3: 单位：万元
A4: 项目 | B4: 2024年 | E4: 2025年预算
B5: 年初预算数 | C5: 执行数 | D5: 完成年初预算% | E5: 建议数 | F5: 比2024年执行数增减
F6: 金额 | G6: %
A7: 一、农网还贷资金收入 | D7: =IF(B7=0,0,C7/B7)*100 -> 0 | F7: =E7-C7 -> 0 | G7: =IF(C7=0,0,F7/C7*100) -> 0
A8: 二、旅游发展基金收入 | D8: =IF(B8=0,0,C8/B8)*100 -> 0 | F8: =E8-C8 -> 0 | G8: =IF(C8=0,0,F8/C8*100) -> 0
A9: 三、国家电影事业发展专项资金收入 | D9: =IF(B9=0,0,C9/B9)*100 -> 0 | F9: =E9-C9 -> 0 | G9: =IF(C9=0,0,F9/C9*100) -> 0
A10: 四、国有土地收益基金收入 | D10: =IF(B10=0,0,C10/B10)*100 -> 0 | F10: =E10-C10 -> 0 | G10: =IF(C10=0,0,F10/C10*100) -> 0
A11: 五、农业土地开发资金收入 | D11: =IF(B11=0,0,C11/B11)*100 -> 0 | F11: =E11-C11 -> 0 | G11: =IF(C11=0,0,F11/C11*100) -> 0
A12: 六、国有土地使用权出让收入 | B12: =SUM(B13:B17) -> 40000 | C12: =SUM(C13:C17) -> 10236 | D12: =IF(B12=0,0,C12/B12)*100 -> 25.59 | E12: =SUM(E13:E17) -> 10350 | F12: =E12-C12 -> 114 | G12: =IF(C12=0,0,F12/C12*100) -> 1.1137163
A13: 土地出让价款收入 | B13: 40000 | C13: 9920 | D13: =IF(B13=0,0,C13/B13)*100 -> 24.8 | E13: 10000 | F13: =E13-C13 -> 80 | G13: =IF(C13=0,0,F13/C13*100) -> 0.80645161
A14: 补缴的土地价款 | C14: 342 | D14: =IF(B14=0,0,C14/B14)*100 -> 0 | E14: 350 | F14: =E14-C14 -> 8 | G14: =IF(C14=0,0,F14/C14*100) -> 2.3391813
A15: 划拨土地收入 | D15: =IF(B15=0,0,C15/B15)*100 -> 0 | F15: =E15-C15 -> 0 | G15: =IF(C15=0,0,F15/C15*100) -> 0
A16: 缴纳新增建设用地土地有偿使用费 | C16: -72 | D16: =IF(B16=0,0,C16/B16)*100 -> 0 | F16: =E16-C16 -> 72 | G16: =IF(C16=0,0,F16/C16*100) -> -100
A17: 其他土地出让收入 | C17: 46 | D17: =IF(B17=0,0,C17/B17)*100 -> 0 | F17: =E17-C17 -> -46 | G17: =IF(C17=0,0,F17/C17*100) -> -100
A18: 七、大中型水库库区基金收入 | D18: =IF(B18=0,0,C18/B18)*100 -> 0 | F18: =E18-C18 -> 0 | G18: =IF(C18=0,0,F18/C18*100) -> 0
A19: 八、彩票公益金收入 | B19: =SUM(B20:B21) -> 0 | C19: =SUM(C20:C21) -> 0 | D19: =IF(B19=0,0,C19/B19)*100 -> 0 | E19: =SUM(E20:E21) -> 0 | F19: =E19-C19 -> 0 | G19: =IF(C19=0,0,F19/C19*100) -> 0
A20: 福利彩票公益金收入 | D20: =IF(B20=0,0,C20/B20)*100 -> 0 | F20: =E20-C20 -> 0 | G20: =IF(C20=0,0,F20/C20*100) -> 0
A21: 体育彩票公益金收入 | D21: =IF(B21=0,0,C21/B21)*100 -> 0 | F21: =E21-C21 -> 0 | G21: =IF(C21=0,0,F21/C21*100) -> 0
A22: 九、城市基础设施配套费收入 | B22: 250 | C22: 427 | D22: =IF(B22=0,0,C22/B22)*100 -> 170.8 | E22: 201 | F22: =E22-C22 -> -226 | G22: =IF(C22=0,0,F22/C22*100) -> -52.9274
A23: 十、小型水库移民扶助基金收入 | D23: =IF(B23=0,0,C23/B23)*100 -> 0 | F23: =E23-C23 -> 0 | G23: =IF(C23=0,0,F23/C23*100) -> 0
A24: 十一、国家重大水利工程建设基金收入 | D24: =IF(B24=0,0,C24/B24)*100 -> 0 | F24: =E24-C24 -> 0 | G24: =IF(C24=0,0,F24/C24*100) -> 0
A25: 十二、车辆通行费 | D25: =IF(B25=0,0,C25/B25)*100 -> 0 | F25: =E25-C25 -> 0 | G25: =IF(C25=0,0,F25/C25*100) -> 0
A26: 十三、污水处理费收入 | B26: 1099 | C26: 1204 | D26: =IF(B26=0,0,C26/B26)*100 -> 109.55414 | E26: 1100 | F26: =E26-C26 -> -104 | G26: =IF(C26=0,0,F26/C26*100) -> -8.6378738
A27: 十四、彩票发行机构和彩票销售机构的业务费用 | B27: =SUM(B28:B30) -> 0 | C27: =SUM(C28:C30) -> 0 | D27: =IF(B27=0,0,C27/B27)*100 -> 0 | E27: =SUM(E28:E30) -> 0 | F27: =E27-C27 -> 0 | G27: =IF(C27=0,0,F27/C27*100) -> 0
A28: 福利彩票销售机构的业务费用 | D28: =IF(B28=0,0,C28/B28)*100 -> 0 | F28: =E28-C28 -> 0 | G28: =IF(C28=0,0,F28/C28*100) -> 0
A29: 体育彩票销售机构的业务费用 | D29: =IF(B29=0,0,C29/B29)*100 -> 0 | F29: =E29-C29 -> 0 | G29: =IF(C29=0,0,F29/C29*100) -> 0
A30: 彩票发行销售风险基金 | D30: =IF(B30=0,0,C30/B30)*100 -> 0 | F30: =E30-C30 -> 0 | G30: =IF(C30=0,0,F30/C30*100) -> 0
A31: 十五、其他政府性基金收入 | C31: 1 | D31: =IF(B31=0,0,C31/B31)*100 -> 0 | F31: =E31-C31 -> -1 | G31: =IF(C31=0,0,F31/C31*100) -> -100
A32: 十六、专项债务对应项目专项收入 | C32: =SUM(C33,C35) -> 3206 | D32: =IF(B32=0,0,C32/B32)*100 -> 0 | E32: =SUM(E33,E35) -> 4729 | F32: =E32-C32 -> 1523 | G32: =IF(C32=0,0,F32/C32*100) -> 47.504679
A33: 国有土地使用权出让金专项债务对应项目专项收入 | C33: =SUM(C34) -> 679 | E33: =SUM(E34) -> 679
A34: 棚户区改造专项债券对应项目专项收入 | C34: 679 | E34: 679
A35: 其他政府性基金专项债务对应项目专项收入 | C35: =SUM(C36) -> 2527 | E35: =SUM(E36) -> 4050
A36: 其他地方自行试点项目收益专项债券对应项目专项收入 | C36: 2527 | E36: 4050
A37: 政府性基金预算收入合计 | B37: =SUM(B7:B12,B18:B19,B22:B27,B31:B32) -> 41349 | C37: =SUM(C7:C12,C18,C19,C22:C27,C31:C32) -> 15074 | D37: =IF(B37=0,0,C37/B37)*100 -> 36.455537 | E37: =SUM(E7:E12,E18:E19,E22:E27,E31:E32) -> 16380 | F37: =E37-C37 -> 1306 | G37: =IF(C37=0,0,F37/C37*100) -> 8.6639246
A38: 转移性收入 | B38: =SUM(B39:B41) -> 34198 | C38: =SUM(C39:C41) -> 212773 | D38: =IF(B38=0,0,C38/B38)*100 -> 622.17966 | E38: =SUM(E39:E41) -> 60614 | F38: =E38-C38 -> -152159 | G38: =IF(C38=0,0,F38/C38*100) -> -71.512363
A39: 上级补助收入 | B39: 2576 | C39: 4783 | D39: =IF(B39=0,0,C39/B39)*100 -> 185.67547 | E39: 1213 | F39: =E39-C39 -> -3570 | G39: =IF(C39=0,0,F39/C39*100) -> -74.639348
A40: 上年结余收入 | B40: 31622 | C40: 24529 | D40: =IF(B40=0,0,C40/B40)*100 -> 77.569414 | E40: =[2]附件五本基支!C98 -> 59401 | F40: =E40-C40 -> 34872 | G40: =IF(C40=0,0,F40/C40*100) -> 142.16642
...

Sheet 全基支
A1: 附表11
A2: 柳城县政府性基金预算2025年支出预算
F3: 单位：万元
A4: 项 目 | B4: 2024年 | E4: 2025年预算
B5: 年初预算数 | C5: 执行数 | D5: 完成年初预算% | E5: 建议数 | F5: 比2024年年初预算增减
F6: 金额 | G6: %
A7: 一、文化旅游体育与传媒支出 | B7: =SUM(B8,B11,B13) -> 0 | C7: =SUM(C8,C11,C13) -> 7 | D7: =IF(B7=0,0,C7/B7)*100 -> 0 | E7: =SUM(E8,E11,E13) -> 0 | F7: =E7-B7 -> 0 | G7: =IF(B7=0,0,F7/B7*100) -> 0
A8: 国家电影事业发展专项资金安排的支出 | B8: =SUM(B10) -> 0 | C8: =SUM(C9:C10) -> 7 | D8: =IF(B8=0,0,C8/B8)*100 -> 0 | E8: =SUM(E10) -> 0 | F8: =E8-B8 -> 0 | G8: =IF(B8=0,0,F8/B8*100) -> 0
A9: 资助国产影片放映
A10: 其他国家电影事业发展专项资金支出 | C10: 7 | D10: =IF(B10=0,0,C10/B10)*100 -> 0 | F10: =E10-B10 -> 0 | G10: =IF(B10=0,0,F10/B10*100) -> 0
A11: 旅游发展基金支出 | B11: =SUM(B12) -> 0 | C11: =SUM(C12) -> 0 | D11: =IF(B11=0,0,C11/B11)*100 -> 0 | F11: =E11-B11 -> 0 | G11: =IF(B11=0,0,F11/B11*100) -> 0
A12: 地方旅游开发项目补助 | D12: =IF(B12=0,0,C12/B12)*100 -> 0 | F12: =E12-B12 -> 0 | G12: =IF(B12=0,0,F12/B12*100) -> 0
A13: 国家电影事业发展专项资金对应专项债务收入安排的支出 | D13: =IF(B13=0,0,C13/B13)*100 -> 0 | F13: =E13-B13 -> 0 | G13: =IF(B13=0,0,F13/B13*100) -> 0
A14: 二、城乡社区支出 | B14: =SUM(B15,B27,B29,B30,B34,B36:B40) -> 16877 | C14: =SUM(C15,C27,C29,C30,C34,C36:C40) -> 21528 | D14: =IF(B14=0,0,C14/B14)*100 -> 127.55822 | E14: =SUM(E15,E27,E29,E30,E34,E36:E40) -> 8551 | F14: =E14-B14 -> -8326 | G14: =IF(B14=0,0,F14/B14*100) -> -49.333412
A15: 国有土地使用权出让收入安排的支出 | B15: =SUM(B16:B26) -> 15528 | C15: =SUM(C16:C26) -> 9423 | D15: =IF(B15=0,0,C15/B15)*100 -> 60.683926 | E15: =SUM(E16:E26) -> 7250 | F15: =E15-B15 -> -8278 | G15: =IF(B15=0,0,F15/B15*100) -> -53.310149
A16: 征地和拆迁补偿支出 | B16: 9065 | C16: 1710 | D16: =IF(B16=0,0,C16/B16)*100 -> 18.863762 | E16: 2030 | F16: =E16-B16 -> -7035 | G16: =IF(B16=0,0,F16/B16*100) -> -77.606178
A17: 土地开发支出 | B17: 70 | D17: =IF(B17=0,0,C17/B17)*100 -> 0 | F17: =E17-B17 -> -70 | G17: =IF(B17=0,0,F17/B17*100) -> -100
A18: 城市建设支出 | C18: 117
A19: 农村基础设施建设支出 | B19: 1115 | C19: 127 | D19: =IF(B19=0,0,C19/B19)*100 -> 11.390135 | E19: 720 | F19: =E19-B19 -> -395 | G19: =IF(B19=0,0,F19/B19*100) -> -35.426009
A20: 补助被征地农民支出 | B20: 4500 | C20: 2131 | D20: =IF(B20=0,0,C20/B20)*100 -> 47.355556 | E20: 4500
A21: 土地出让业务支出 | C21: 25 | D21: =IF(B21=0,0,C21/B21)*100 -> 0 | F21: =E21-B21 -> 0 | G21: =IF(B21=0,0,F21/B21*100) -> 0
A22: 支付破产或改制企业职工安置费 | C22: 1165
A23: 农业生产发展支出 | C23: 396
A24: 农村社会事业支出 | C24: 50
A25: 农业农村生态环境支出 | B25: 778 | C25: 474
A26: 其他国有土地使用权出让收入安排的支出 | C26: 3228 | D26: =IF(B26=0,0,C26/B26)*100 -> 0 | F26: =E26-B26 -> 0 | G26: =IF(B26=0,0,F26/B26*100) -> 0
A27: 国有土地收益基金安排的支出 | C27: =SUM(C28) -> 76 | D27: =IF(B27=0,0,C27/B27)*100 -> 0 | F27: =E27-B27 -> 0 | G27: =IF(B27=0,0,F27/B27*100) -> 0
A28: 其他国有土地收益基金支出 | C28: 76 | D28: =IF(B28=0,0,C28/B28)*100 -> 0 | F28: =E28-B28 -> 0 | G28: =IF(B28=0,0,F28/B28*100) -> 0
A29: 农业土地开发资金安排的支出 | D29: =IF(B29=0,0,C29/B29)*100 -> 0 | F29: =E29-B29 -> 0 | G29: =IF(B29=0,0,F29/B29*100) -> 0
A30: 城市基础设施配套费安排的支出 | B30: 250 | C30: =SUM(C31:C33) -> 160 | D30: =IF(B30=0,0,C30/B30)*100 -> 64 | E30: =SUM(E31:E33) -> 201 | F30: =E30-B30 -> -49 | G30: =IF(B30=0,0,F30/B30*100) -> -19.6
A31: 城市公共设施 | C31: 160 | D31: =IF(B31=0,0,C31/B31)*100 -> 0 | F31: =E31-B31 -> 0 | G31: =IF(B31=0,0,F31/B31*100) -> 0
A32: 城市环境卫生 | D32: =IF(B32=0,0,C32/B32)*100 -> 0 | F32: =E32-B32 -> 0 | G32: =IF(B32=0,0,F32/B32*100) -> 0
A33: 其他城市基础设施配套费安排的支出 | B33: 250 | D33: =IF(B33=0,0,C33/B33)*100 -> 0 | E33: 201 | F33: =E33-B33 -> -49 | G33: =IF(B33=0,0,F33/B33*100) -> -19.6
A34: 污水处理费收入安排的支出 | B34: =SUM(B35) -> 1099 | C34: =SUM(C35) -> 942 | D34: =IF(B34=0,0,C34/B34)*100 -> 85.714286 | E34: =SUM(E35) -> 1100 | F34: =E34-B34 -> 1 | G34: =IF(B34=0,0,F34/B34*100) -> 0.090991811
A35: 其他污水处理费安排的支出 | B35: 1099 | C35: 942 | D35: =IF(B35=0,0,C35/B35)*100 -> 85.714286 | E35: 1100 | F35: =E35-B35 -> 1 | G35: =IF(B35=0,0,F35/B35*100) -> 0.090991811
A36: 土地储备专项债券收入安排的支出 | D36: =IF(B36=0,0,C36/B36)*100 -> 0 | F36: =E36-B36 -> 0 | G36: =IF(B36=0,0,F36/B36*100) -> 0
A37: 棚户区改造专项债券收入安排的支出 | D37: =IF(B37=0,0,C37/B37)*100 -> 0 | F37: =E37-B37 -> 0 | G37: =IF(B37=0,0,F37/B37*100) -> 0
A38: 城市基础设施配套费对应专项债务收入安排的支出 | D38: =IF(B38=0,0,C38/B38)*100 -> 0 | F38: =E38-B38 -> 0 | G38: =IF(B38=0,0,F38/B38*100) -> 0
A39: 污水处理费对应专项债务收入安排的支出 | D39: =IF(B39=0,0,C39/B39)*100 -> 0 | F39: =E39-B39 -> 0 | G39: =IF(B39=0,0,F39/B39*100) -> 0
A40: 国有土地使用权出让收入对应专项债务收入安排的支出 | C40: =SUM(C41) -> 10927 | D40: =IF(B40=0,0,C40/B40)*100 -> 0 | E40: =SUM(E41) -> 0 | F40: =E40-B40 -> 0 | G40: =IF(B40=0,0,F40/B40*100) -> 0
...

Sheet 本基收
A1: 附表12
A2: 柳城县本级政府性基金预算2025年收入预算
G3: 单位：万元
A4: 项目 | B4: 2024年 | E4: 2025年预算
B5: 年初预算数 | C5: 执行数 | D5: 完成年初预算% | E5: 建议数 | F5: 比2024年执行数增减
F6: 金额 | G6: %
A7: 一、农网还贷资金收入 | D7: =IF(B7=0,0,C7/B7)*100 -> 0 | F7: =E7-C7 -> 0 | G7: =IF(C7=0,0,F7/C7*100) -> 0
A8: 二、旅游发展基金收入 | D8: =IF(B8=0,0,C8/B8)*100 -> 0 | F8: =E8-C8 -> 0 | G8: =IF(C8=0,0,F8/C8*100) -> 0
A9: 三、国家电影事业发展专项资金收入 | D9: =IF(B9=0,0,C9/B9)*100 -> 0 | F9: =E9-C9 -> 0 | G9: =IF(C9=0,0,F9/C9*100) -> 0
A10: 四、国有土地收益基金收入 | D10: =IF(B10=0,0,C10/B10)*100 -> 0 | F10: =E10-C10 -> 0 | G10: =IF(C10=0,0,F10/C10*100) -> 0
A11: 五、农业土地开发资金收入 | D11: =IF(B11=0,0,C11/B11)*100 -> 0 | F11: =E11-C11 -> 0 | G11: =IF(C11=0,0,F11/C11*100) -> 0
A12: 六、国有土地使用权出让收入 | B12: =SUM(B13:B17) -> 40000 | C12: =SUM(C13:C17) -> 10236 | D12: =IF(B12=0,0,C12/B12)*100 -> 25.59 | E12: =SUM(E13:E17) -> 10350 | F12: =E12-C12 -> 114 | G12: =IF(C12=0,0,F12/C12*100) -> 1.1137163
A13: 土地出让价款收入 | B13: 40000 | C13: 9920 | D13: =IF(B13=0,0,C13/B13)*100 -> 24.8 | E13: 10000 | F13: =E13-C13 -> 80 | G13: =IF(C13=0,0,F13/C13*100) -> 0.80645161
A14: 补缴的土地价款 | C14: 342 | D14: =IF(B14=0,0,C14/B14)*100 -> 0 | E14: 350 | F14: =E14-C14 -> 8 | G14: =IF(C14=0,0,F14/C14*100) -> 2.3391813
A15: 划拨土地收入 | D15: =IF(B15=0,0,C15/B15)*100 -> 0 | F15: =E15-C15 -> 0 | G15: =IF(C15=0,0,F15/C15*100) -> 0
A16: 缴纳新增建设用地土地有偿使用费 | C16: -72 | D16: =IF(B16=0,0,C16/B16)*100 -> 0 | F16: =E16-C16 -> 72 | G16: =IF(C16=0,0,F16/C16*100) -> -100
A17: 其他土地出让收入 | C17: 46 | D17: =IF(B17=0,0,C17/B17)*100 -> 0 | F17: =E17-C17 -> -46 | G17: =IF(C17=0,0,F17/C17*100) -> -100
A18: 七、大中型水库库区基金收入 | D18: =IF(B18=0,0,C18/B18)*100 -> 0 | F18: =E18-C18 -> 0 | G18: =IF(C18=0,0,F18/C18*100) -> 0
A19: 八、彩票公益金收入 | B19: =SUM(B20:B21) -> 0 | C19: =SUM(C20:C21) -> 0 | D19: =IF(B19=0,0,C19/B19)*100 -> 0 | E19: =SUM(E20:E21) -> 0 | F19: =E19-C19 -> 0 | G19: =IF(C19=0,0,F19/C19*100) -> 0
A20: 福利彩票公益金收入 | D20: =IF(B20=0,0,C20/B20)*100 -> 0 | F20: =E20-C20 -> 0 | G20: =IF(C20=0,0,F20/C20*100) -> 0
A21: 体育彩票公益金收入 | D21: =IF(B21=0,0,C21/B21)*100 -> 0 | F21: =E21-C21 -> 0 | G21: =IF(C21=0,0,F21/C21*100) -> 0
A22: 九、城市基础设施配套费收入 | B22: 250 | C22: 427 | D22: =IF(B22=0,0,C22/B22)*100 -> 170.8 | E22: 201 | F22: =E22-C22 -> -226 | G22: =IF(C22=0,0,F22/C22*100) -> -52.9274
A23: 十、小型水库移民扶助基金收入 | D23: =IF(B23=0,0,C23/B23)*100 -> 0 | F23: =E23-C23 -> 0 | G23: =IF(C23=0,0,F23/C23*100) -> 0
A24: 十一、国家重大水利工程建设基金收入 | D24: =IF(B24=0,0,C24/B24)*100 -> 0 | F24: =E24-C24 -> 0 | G24: =IF(C24=0,0,F24/C24*100) -> 0
A25: 十二、车辆通行费 | D25: =IF(B25=0,0,C25/B25)*100 -> 0 | F25: =E25-C25 -> 0 | G25: =IF(C25=0,0,F25/C25*100) -> 0
A26: 十三、污水处理费收入 | B26: 1099 | C26: 1204 | D26: =IF(B26=0,0,C26/B26)*100 -> 109.55414 | E26: 1100 | F26: =E26-C26 -> -104 | G26: =IF(C26=0,0,F26/C26*100) -> -8.6378738
A27: 十四、彩票发行机构和彩票销售机构的业务费用 | B27: =SUM(B28:B30) -> 0 | C27: =SUM(C28:C30) -> 0 | D27: =IF(B27=0,0,C27/B27)*100 -> 0 | E27: =SUM(E28:E30) -> 0 | F27: =E27-C27 -> 0 | G27: =IF(C27=0,0,F27/C27*100) -> 0
A28: 福利彩票销售机构的业务费用 | D28: =IF(B28=0,0,C28/B28)*100 -> 0 | F28: =E28-C28 -> 0 | G28: =IF(C28=0,0,F28/C28*100) -> 0
A29: 体育彩票销售机构的业务费用 | D29: =IF(B29=0,0,C29/B29)*100 -> 0 | F29: =E29-C29 -> 0 | G29: =IF(C29=0,0,F29/C29*100) -> 0
A30: 彩票发行销售风险基金 | D30: =IF(B30=0,0,C30/B30)*100 -> 0 | F30: =E30-C30 -> 0 | G30: =IF(C30=0,0,F30/C30*100) -> 0
A31: 十五、其他政府性基金收入 | C31: 1 | D31: =IF(B31=0,0,C31/B31)*100 -> 0 | F31: =E31-C31 -> -1 | G31: =IF(C31=0,0,F31/C31*100) -> -100
A32: 十六、专项债务对应项目专项收入 | C32: =SUM(C33,C35) -> 3206 | D32: =IF(B32=0,0,C32/B32)*100 -> 0 | E32: =SUM(E33,E35) -> 4729 | F32: =E32-C32 -> 1523 | G32: =IF(C32=0,0,F32/C32*100) -> 47.504679
A33: 国有土地使用权出让金专项债务对应项目专项收入 | C33: =SUM(C34) -> 679 | E33: =SUM(E34) -> 679
A34: 棚户区改造专项债券对应项目专项收入 | C34: 679 | E34: 679
A35: 其他政府性基金专项债务对应项目专项收入 | C35: =SUM(C36) -> 2527 | E35: =SUM(E36) -> 4050
A36: 其他地方自行试点项目收益专项债券对应项目专项收入 | C36: 2527 | E36: 4050
A37: 政府性基金预算收入合计 | B37: =SUM(B7:B12,B18:B19,B22:B27,B31:B32) -> 41349 | C37: =SUM(C7:C12,C18,C19,C22:C27,C31:C32) -> 15074 | D37: =IF(B37=0,0,C37/B37)*100 -> 36.455537 | E37: =SUM(E7:E12,E18:E19,E22:E27,E31:E32) -> 16380 | F37: =E37-C37 -> 1306 | G37: =IF(C37=0,0,F37/C37*100) -> 8.6639246
A38: 转移性收入 | B38: =SUM(B39:B41) -> 34198 | C38: =SUM(C39:C41) -> 212773 | D38: =IF(B38=0,0,C38/B38)*100 -> 622.17966 | E38: =SUM(E39:E41) -> 60614 | F38: =E38-C38 -> -152159 | G38: =IF(C38=0,0,F38/C38*100) -> -71.512363
A39: 上级补助收入 | B39: 2576 | C39: 4783 | D39: =IF(B39=0,0,C39/B39)*100 -> 185.67547 | E39: 1213 | F39: =E39-C39 -> -3570 | G39: =IF(C39=0,0,F39/C39*100) -> -74.639348
A40: 上年结余收入 | B40: 31622 | C40: 24529 | D40: =IF(B40=0,0,C40/B40)*100 -> 77.569414 | E40: =[2]附件五本基支!C98 -> 59401 | F40: =E40-C40 -> 34872 | G40: =IF(C40=0,0,F40/C40*100) -> 142.16642
...

Sheet 本基支
A1: 附表13
A2: 柳城县本级政府性基金预算2025年支出预算
F3: 单位：万元
A4: 项 目 | B4: 2024年 | E4: 2025年预算
B5: 年初预算数 | C5: 执行数 | D5: 完成年初预算% | E5: 建议数 | F5: 比2024年年初预算增减
F6: 金额 | G6: %
A7: 一、文化旅游体育与传媒支出 | B7: =SUM(B8,B11,B13) -> 0 | C7: =SUM(C8,C11,C13) -> 7 | D7: =IF(B7=0,0,C7/B7)*100 -> 0 | E7: =SUM(E8,E11,E13) -> 0 | F7: =E7-B7 -> 0 | G7: =IF(B7=0,0,F7/B7*100) -> 0
A8: 国家电影事业发展专项资金安排的支出 | B8: =SUM(B10) -> 0 | C8: =SUM(C9:C10) -> 7 | D8: =IF(B8=0,0,C8/B8)*100 -> 0 | E8: =SUM(E10) -> 0 | F8: =E8-B8 -> 0 | G8: =IF(B8=0,0,F8/B8*100) -> 0
A9: 资助国产影片放映
A10: 其他国家电影事业发展专项资金支出 | C10: 7 | D10: =IF(B10=0,0,C10/B10)*100 -> 0 | F10: =E10-B10 -> 0 | G10: =IF(B10=0,0,F10/B10*100) -> 0
A11: 旅游发展基金支出 | B11: =SUM(B12) -> 0 | C11: =SUM(C12) -> 0 | D11: =IF(B11=0,0,C11/B11)*100 -> 0 | F11: =E11-B11 -> 0 | G11: =IF(B11=0,0,F11/B11*100) -> 0
A12: 地方旅游开发项目补助 | D12: =IF(B12=0,0,C12/B12)*100 -> 0 | F12: =E12-B12 -> 0 | G12: =IF(B12=0,0,F12/B12*100) -> 0
A13: 国家电影事业发展专项资金对应专项债务收入安排的支出 | D13: =IF(B13=0,0,C13/B13)*100 -> 0 | F13: =E13-B13 -> 0 | G13: =IF(B13=0,0,F13/B13*100) -> 0
A14: 二、城乡社区支出 | B14: =SUM(B15,B27,B29,B30,B34,B36:B40) -> 16877 | C14: =SUM(C15,C27,C29,C30,C34,C36:C40) -> 21528 | D14: =IF(B14=0,0,C14/B14)*100 -> 127.55822 | E14: =SUM(E15,E27,E29,E30,E34,E36:E40) -> 8551 | F14: =E14-B14 -> -8326 | G14: =IF(B14=0,0,F14/B14*100) -> -49.333412
A15: 国有土地使用权出让收入安排的支出 | B15: =SUM(B16:B26) -> 15528 | C15: =SUM(C16:C26) -> 9423 | D15: =IF(B15=0,0,C15/B15)*100 -> 60.683926 | E15: =SUM(E16:E26) -> 7250 | F15: =E15-B15 -> -8278 | G15: =IF(B15=0,0,F15/B15*100) -> -53.310149
A16: 征地和拆迁补偿支出 | B16: 9065 | C16: 1710 | D16: =IF(B16=0,0,C16/B16)*100 -> 18.863762 | E16: 2030 | F16: =E16-B16 -> -7035 | G16: =IF(B16=0,0,F16/B16*100) -> -77.606178
A17: 土地开发支出 | B17: 70 | D17: =IF(B17=0,0,C17/B17)*100 -> 0 | F17: =E17-B17 -> -70 | G17: =IF(B17=0,0,F17/B17*100) -> -100
A18: 城市建设支出 | C18: 117
A19: 农村基础设施建设支出 | B19: 1115 | C19: 127 | D19: =IF(B19=0,0,C19/B19)*100 -> 11.390135 | E19: 720 | F19: =E19-B19 -> -395 | G19: =IF(B19=0,0,F19/B19*100) -> -35.426009
A20: 补助被征地农民支出 | B20: 4500 | C20: 2131 | D20: =IF(B20=0,0,C20/B20)*100 -> 47.355556 | E20: 4500
A21: 土地出让业务支出 | C21: 25 | D21: =IF(B21=0,0,C21/B21)*100 -> 0 | F21: =E21-B21 -> 0 | G21: =IF(B21=0,0,F21/B21*100) -> 0
A22: 支付破产或改制企业职工安置费 | C22: 1165
A23: 农业生产发展支出 | C23: 396
A24: 农村社会事业支出 | C24: 50
A25: 农业农村生态环境支出 | B25: 778 | C25: 474
A26: 其他国有土地使用权出让收入安排的支出 | C26: 3228 | D26: =IF(B26=0,0,C26/B26)*100 -> 0 | F26: =E26-B26 -> 0 | G26: =IF(B26=0,0,F26/B26*100) -> 0
A27: 国有土地收益基金安排的支出 | C27: =SUM(C28) -> 76 | D27: =IF(B27=0,0,C27/B27)*100 -> 0 | F27: =E27-B27 -> 0 | G27: =IF(B27=0,0,F27/B27*100) -> 0
A28: 其他国有土地收益基金支出 | C28: 76 | D28: =IF(B28=0,0,C28/B28)*100 -> 0 | F28: =E28-B28 -> 0 | G28: =IF(B28=0,0,F28/B28*100) -> 0
A29: 农业土地开发资金安排的支出 | D29: =IF(B29=0,0,C29/B29)*100 -> 0 | F29: =E29-B29 -> 0 | G29: =IF(B29=0,0,F29/B29*100) -> 0
A30: 城市基础设施配套费安排的支出 | B30: 250 | C30: =SUM(C31:C33) -> 160 | D30: =IF(B30=0,0,C30/B30)*100 -> 64 | E30: =SUM(E31:E33) -> 201 | F30: =E30-B30 -> -49 | G30: =IF(B30=0,0,F30/B30*100) -> -19.6
A31: 城市公共设施 | C31: 160 | D31: =IF(B31=0,0,C31/B31)*100 -> 0 | F31: =E31-B31 -> 0 | G31: =IF(B31=0,0,F31/B31*100) -> 0
A32: 城市环境卫生 | D32: =IF(B32=0,0,C32/B32)*100 -> 0 | F32: =E32-B32 -> 0 | G32: =IF(B32=0,0,F32/B32*100) -> 0
A33: 其他城市基础设施配套费安排的支出 | B33: 250 | D33: =IF(B33=0,0,C33/B33)*100 -> 0 | E33: 201 | F33: =E33-B33 -> -49 | G33: =IF(B33=0,0,F33/B33*100) -> -19.6
A34: 污水处理费收入安排的支出 | B34: =SUM(B35) -> 1099 | C34: =SUM(C35) -> 942 | D34: =IF(B34=0,0,C34/B34)*100 -> 85.714286 | E34: =SUM(E35) -> 1100 | F34: =E34-B34 -> 1 | G34: =IF(B34=0,0,F34/B34*100) -> 0.090991811
A35: 其他污水处理费安排的支出 | B35: 1099 | C35: 942 | D35: =IF(B35=0,0,C35/B35)*100 -> 85.714286 | E35: 1100 | F35: =E35-B35 -> 1 | G35: =IF(B35=0,0,F35/B35*100) -> 0.090991811
A36: 土地储备专项债券收入安排的支出 | D36: =IF(B36=0,0,C36/B36)*100 -> 0 | F36: =E36-B36 -> 0 | G36: =IF(B36=0,0,F36/B36*100) -> 0
A37: 棚户区改造专项债券收入安排的支出 | D37: =IF(B37=0,0,C37/B37)*100 -> 0 | F37: =E37-B37 -> 0 | G37: =IF(B37=0,0,F37/B37*100) -> 0
A38: 城市基础设施配套费对应专项债务收入安排的支出 | D38: =IF(B38=0,0,C38/B38)*100 -> 0 | F38: =E38-B38 -> 0 | G38: =IF(B38=0,0,F38/B38*100) -> 0
A39: 污水处理费对应专项债务收入安排的支出 | D39: =IF(B39=0,0,C39/B39)*100 -> 0 | F39: =E39-B39 -> 0 | G39: =IF(B39=0,0,F39/B39*100) -> 0
A40: 国有土地使用权出让收入对应专项债务收入安排的支出 | C40: =SUM(C41) -> 10927 | D40: =IF(B40=0,0,C40/B40)*100 -> 0 | F40: =E40-B40 -> 0 | G40: =IF(B40=0,0,F40/B40*100) -> 0
...

Sheet 基金转移支付
A1: 附表14
A2: 柳城县政府性基金预算2025年转移支付预算
G3: 单位：万元
A4: 项目 | B4: 2024年 | E4: 2025年预算
B5: 年初预算数 | C5: 执行数 | D5: 完成年初预算% | E5: 建议数 | F5: 比上年预算增减额 | G5: 比上年预算增减%
A6: 转移性收入 | B6: 34198 | C6: 212773 | D6: 622.17966 | E6: 60614 | F6: -152159 | G6: -71.512363
A7: 上级补助收入 | B7: 2576 | C7: 4783 | D7: 185.67547 | E7: 1213 | F7: -3570 | G7: -74.639348
A8: 上年结余收入 | B8: 31622 | C8: 24529 | D8: 77.569414 | E8: 59401 | F8: 34872 | G8: 142.16642
A9: 地方政府专项债务转贷收入 | C9: 183461 | D9: 0 | F9: -183461 | G9: -100
A10: 转移性支出 | B10: 21100 | C10: 130640 | D10: 619.14692 | F10: -21100 | G10: -100
A11: 调出资金 | B11: 21000 | C11: 466 | D11: 2.2190476 | F11: -21000 | G11: -100
A12: 地方政府专项债务还本支出 | B12: 100 | C12: 70773 | D12: 70773 | F12: -100 | G12: -100
A13: 年终结余 | C13: 59401 | D13: 0 | F13: 0 | G13: 0

Sheet 基金转移支付分项目
A1: 附表15
A2: 柳城县政府性基金预算2025年转移支付分项目预算
E3: 单位：万元
A4: 项目 | B4: 2024年预算数 | C4: 2025年预算数 | D4: 比上年预算增减额 | E4: 比上年预算增减%
A5: 转移性收入 | B5: 34198 | C5: 60614 | D5: -152159 | E5: -71.512363
A6: 上级补助收入 | B6: 2576 | C6: 1213 | D6: -3570 | E6: -74.639348
A7: 上年结余收入 | B7: 31622 | C7: 59401 | D7: 34872 | E7: 142.16642
A8: 地方政府专项债务转贷收入 | D8: -183461 | E8: -100
A9: 转移性支出 | B9: 21100 | D9: -21100 | E9: -100
A10: 调出资金 | B10: 21000 | D10: -21000 | E10: -100
A11: 地方政府专项债务还本支出 | B11: 100 | D11: -100 | E11: -100
A12: 说明：基于财政管理模式，县级财政已是财政体系最末级，不存在补助下级财政的政府性基金转移支付支出。

Sheet 基转移支付分地区
A1: 附表16
A2: 柳城县政府性基金预算2025年转移支付分地区预算
C3: 单位：万元
A4: 地区 | B4: 2024年预算数 | C4: 2025年预算数 | D4: 比上年增减%
A5: xx市
A6: xx区
A7: xx地（市、州）
A8: xx县
A10: 说明：基于财政管理模式，县级财政已是财政体系最末级，不存在补助下级财政的政府性基金转移支付支出。因此，本表无数据。

Sheet 专项债务
A1: 附表17
A2: 柳城县2024年专项债务余额及年度限额统计表
C3: 单位：万元
A4: 地区 | B4: 专项债务
B5: 期末余额 | C5: 年度限额
A6: 柳州市 | B6: =SUM(B7,B16) -> 292668 | C6: =SUM(C7,C16) -> 301491
A7: 市区 | B7: =SUM(B8:B15) -> 0 | C7: =SUM(C8:C15) -> 0
A8: 市本级
A9: 柳北区
A10: 柳南区
A11: 城中区
A12: 鱼峰区
A13: 柳江区
A14: 柳东新区
A15: 北部生态新区
A16: 县级 | B16: =SUM(B17:B21) -> 292668 | C16: =SUM(C17:C21) -> 301491
A17: 柳城县 | B17: 292668 | C17: 301491
A18: 鹿寨县
A19: 融安县
A20: 融水县
A21: 三江县

Sheet 全国资收
A1: 附表18
A2: 柳城县国有资本经营预算2025年收入预算
A3: 单位：万元
A4: 项 目 | B4: 2024年 | E4: 2025年预算
B5: 年初预算 | C5: 执行数 | D5: 完成年初预算% | E5: 建议数 | F5: 比2024年执行数增减
F6: 金额 | G6: %
A7: 一、利润收入 | B7: =SUM(B8:B26) -> 200 | C7: =SUM(C8:C26) -> 0 | D7: =IF(B7=0,0,C7/B7)*100 -> 0 | E7: =SUM(E8:E26) -> 400 | F7: =E7-C7 -> 400 | G7: =IF(C7=0,0,F7/C7*100) -> 0
A8: 金融企业利润收入 | D8: =IF(B8=0,0,C8/B8)*100 -> 0 | F8: =E8-C8 -> 0 | G8: =IF(C8=0,0,F8/C8*100) -> 0
A9: 电力企业利润收入 | D9: =IF(B9=0,0,C9/B9)*100 -> 0 | F9: =E9-C9 -> 0 | G9: =IF(C9=0,0,F9/C9*100) -> 0
A10: 有色冶金采掘企业利润收入 | D10: =IF(B10=0,0,C10/B10)*100 -> 0 | F10: =E10-C10 -> 0 | G10: =IF(C10=0,0,F10/C10*100) -> 0
A11: 煤炭企业利润收入 | D11: =IF(B11=0,0,C11/B11)*100 -> 0 | F11: =E11-C11 -> 0 | G11: =IF(C11=0,0,F11/C11*100) -> 0
A12: 钢铁企业利润收入 | D12: =IF(B12=0,0,C12/B12)*100 -> 0 | F12: =E12-C12 -> 0 | G12: =IF(C12=0,0,F12/C12*100) -> 0
A13: 化工企业利润收入 | D13: =IF(B13=0,0,C13/B13)*100 -> 0 | F13: =E13-C13 -> 0 | G13: =IF(C13=0,0,F13/C13*100) -> 0
A14: 运输企业利润收入 | D14: =IF(B14=0,0,C14/B14)*100 -> 0 | F14: =E14-C14 -> 0 | G14: =IF(C14=0,0,F14/C14*100) -> 0
A15: 机械企业利润收入 | D15: =IF(B15=0,0,C15/B15)*100 -> 0 | F15: =E15-C15 -> 0 | G15: =IF(C15=0,0,F15/C15*100) -> 0
A16: 投资服务企业利润收入 | D16: =IF(B16=0,0,C16/B16)*100 -> 0 | F16: =E16-C16 -> 0 | G16: =IF(C16=0,0,F16/C16*100) -> 0
A17: 贸易企业利润收入 | D17: =IF(B17=0,0,C17/B17)*100 -> 0 | F17: =E17-C17 -> 0 | G17: =IF(C17=0,0,F17/C17*100) -> 0
A18: 建筑施工企业利润收入 | D18: =IF(B18=0,0,C18/B18)*100 -> 0 | F18: =E18-C18 -> 0 | G18: =IF(C18=0,0,F18/C18*100) -> 0
A19: 房地产企业利润收入 | D19: =IF(B19=0,0,C19/B19)*100 -> 0 | F19: =E19-C19 -> 0 | G19: =IF(C19=0,0,F19/C19*100) -> 0
